BEGIN:VCALENDAR
VERSION:2.0
PRODID:-//Spiritual Seekers United in Community - ECPv6.15.20//NONSGML v1.0//EN
CALSCALE:GREGORIAN
METHOD:PUBLISH
X-WR-CALNAME:Spiritual Seekers United in Community
X-ORIGINAL-URL:https://ssucedmonton.com
X-WR-CALDESC:Events for Spiritual Seekers United in Community
REFRESH-INTERVAL;VALUE=DURATION:PT1H
X-Robots-Tag:noindex
X-PUBLISHED-TTL:PT1H
BEGIN:VTIMEZONE
TZID:America/Edmonton
BEGIN:DAYLIGHT
TZOFFSETFROM:-0700
TZOFFSETTO:-0600
TZNAME:MDT
DTSTART:20290311T090000
END:DAYLIGHT
BEGIN:STANDARD
TZOFFSETFROM:-0600
TZOFFSETTO:-0700
TZNAME:MST
DTSTART:20291104T080000
END:STANDARD
BEGIN:DAYLIGHT
TZOFFSETFROM:-0700
TZOFFSETTO:-0600
TZNAME:MDT
DTSTART:20300310T090000
END:DAYLIGHT
BEGIN:STANDARD
TZOFFSETFROM:-0600
TZOFFSETTO:-0700
TZNAME:MST
DTSTART:20301103T080000
END:STANDARD
BEGIN:DAYLIGHT
TZOFFSETFROM:-0700
TZOFFSETTO:-0600
TZNAME:MDT
DTSTART:20310309T090000
END:DAYLIGHT
BEGIN:STANDARD
TZOFFSETFROM:-0600
TZOFFSETTO:-0700
TZNAME:MST
DTSTART:20311102T080000
END:STANDARD
BEGIN:DAYLIGHT
TZOFFSETFROM:-0700
TZOFFSETTO:-0600
TZNAME:MDT
DTSTART:20320314T090000
END:DAYLIGHT
BEGIN:STANDARD
TZOFFSETFROM:-0600
TZOFFSETTO:-0700
TZNAME:MST
DTSTART:20321107T080000
END:STANDARD
END:VTIMEZONE
BEGIN:VEVENT
DTSTART;TZID=America/Edmonton:20301201T111500
DTEND;TZID=America/Edmonton:20301201T121500
DTSTAMP:20260421T031122
CREATED:20240924T184434Z
LAST-MODIFIED:20260220T215235Z
UID:10005135-1922354100-1922357700@ssucedmonton.com
SUMMARY:Post-Gathering Reflections
DESCRIPTION:Every week at about 11:15 MDT\, join in a casual zoom conversation to connect and discuss the morning’s gathering in ways it resonates and challenges.
URL:https://ssucedmonton.com/event/post-gathering-reflections-2/2030-12-01/
LOCATION:SSUC Edmonton- Spiritual Seekers United in Community\, 10740-19 Avenue NW\, Edmonton\, AB\, T6J 6W9\, Canada
CATEGORIES:Seminar/Workshop
ATTACH;FMTTYPE=image/png:https://ssucedmonton.com/wp-content/uploads/2024/07/Untitled-design-3-e1724004586746.png
GEO:53.44805;-113.506732
X-APPLE-STRUCTURED-LOCATION;VALUE=URI;X-ADDRESS=SSUC Edmonton- Spiritual Seekers United in Community 10740-19 Avenue NW Edmonton AB T6J 6W9 Canada;X-APPLE-RADIUS=500;X-TITLE=10740-19 Avenue NW:geo:-113.506732,53.44805
END:VEVENT
BEGIN:VEVENT
DTSTART;TZID=America/Edmonton:20301208T111500
DTEND;TZID=America/Edmonton:20301208T121500
DTSTAMP:20260421T031122
CREATED:20240924T184434Z
LAST-MODIFIED:20260220T215235Z
UID:10005141-1922958900-1922962500@ssucedmonton.com
SUMMARY:Post-Gathering Reflections
DESCRIPTION:Every week at about 11:15 MDT\, join in a casual zoom conversation to connect and discuss the morning’s gathering in ways it resonates and challenges.
URL:https://ssucedmonton.com/event/post-gathering-reflections-2/2030-12-08/
LOCATION:SSUC Edmonton- Spiritual Seekers United in Community\, 10740-19 Avenue NW\, Edmonton\, AB\, T6J 6W9\, Canada
CATEGORIES:Seminar/Workshop
ATTACH;FMTTYPE=image/png:https://ssucedmonton.com/wp-content/uploads/2024/07/Untitled-design-3-e1724004586746.png
GEO:53.44805;-113.506732
X-APPLE-STRUCTURED-LOCATION;VALUE=URI;X-ADDRESS=SSUC Edmonton- Spiritual Seekers United in Community 10740-19 Avenue NW Edmonton AB T6J 6W9 Canada;X-APPLE-RADIUS=500;X-TITLE=10740-19 Avenue NW:geo:-113.506732,53.44805
END:VEVENT
BEGIN:VEVENT
DTSTART;TZID=America/Edmonton:20301215T111500
DTEND;TZID=America/Edmonton:20301215T121500
DTSTAMP:20260421T031122
CREATED:20240924T184434Z
LAST-MODIFIED:20260220T215235Z
UID:10005153-1923563700-1923567300@ssucedmonton.com
SUMMARY:Post-Gathering Reflections
DESCRIPTION:Every week at about 11:15 MDT\, join in a casual zoom conversation to connect and discuss the morning’s gathering in ways it resonates and challenges.
URL:https://ssucedmonton.com/event/post-gathering-reflections-2/2030-12-15/
LOCATION:SSUC Edmonton- Spiritual Seekers United in Community\, 10740-19 Avenue NW\, Edmonton\, AB\, T6J 6W9\, Canada
CATEGORIES:Seminar/Workshop
ATTACH;FMTTYPE=image/png:https://ssucedmonton.com/wp-content/uploads/2024/07/Untitled-design-3-e1724004586746.png
GEO:53.44805;-113.506732
X-APPLE-STRUCTURED-LOCATION;VALUE=URI;X-ADDRESS=SSUC Edmonton- Spiritual Seekers United in Community 10740-19 Avenue NW Edmonton AB T6J 6W9 Canada;X-APPLE-RADIUS=500;X-TITLE=10740-19 Avenue NW:geo:-113.506732,53.44805
END:VEVENT
BEGIN:VEVENT
DTSTART;TZID=America/Edmonton:20301222T111500
DTEND;TZID=America/Edmonton:20301222T121500
DTSTAMP:20260421T031122
CREATED:20240924T184434Z
LAST-MODIFIED:20260220T215235Z
UID:10005160-1924168500-1924172100@ssucedmonton.com
SUMMARY:Post-Gathering Reflections
DESCRIPTION:Every week at about 11:15 MDT\, join in a casual zoom conversation to connect and discuss the morning’s gathering in ways it resonates and challenges.
URL:https://ssucedmonton.com/event/post-gathering-reflections-2/2030-12-22/
LOCATION:SSUC Edmonton- Spiritual Seekers United in Community\, 10740-19 Avenue NW\, Edmonton\, AB\, T6J 6W9\, Canada
CATEGORIES:Seminar/Workshop
ATTACH;FMTTYPE=image/png:https://ssucedmonton.com/wp-content/uploads/2024/07/Untitled-design-3-e1724004586746.png
GEO:53.44805;-113.506732
X-APPLE-STRUCTURED-LOCATION;VALUE=URI;X-ADDRESS=SSUC Edmonton- Spiritual Seekers United in Community 10740-19 Avenue NW Edmonton AB T6J 6W9 Canada;X-APPLE-RADIUS=500;X-TITLE=10740-19 Avenue NW:geo:-113.506732,53.44805
END:VEVENT
BEGIN:VEVENT
DTSTART;TZID=America/Edmonton:20301229T111500
DTEND;TZID=America/Edmonton:20301229T121500
DTSTAMP:20260421T031122
CREATED:20240924T184434Z
LAST-MODIFIED:20260220T215235Z
UID:10005172-1924773300-1924776900@ssucedmonton.com
SUMMARY:Post-Gathering Reflections
DESCRIPTION:Every week at about 11:15 MDT\, join in a casual zoom conversation to connect and discuss the morning’s gathering in ways it resonates and challenges.
URL:https://ssucedmonton.com/event/post-gathering-reflections-2/2030-12-29/
LOCATION:SSUC Edmonton- Spiritual Seekers United in Community\, 10740-19 Avenue NW\, Edmonton\, AB\, T6J 6W9\, Canada
CATEGORIES:Seminar/Workshop
ATTACH;FMTTYPE=image/png:https://ssucedmonton.com/wp-content/uploads/2024/07/Untitled-design-3-e1724004586746.png
GEO:53.44805;-113.506732
X-APPLE-STRUCTURED-LOCATION;VALUE=URI;X-ADDRESS=SSUC Edmonton- Spiritual Seekers United in Community 10740-19 Avenue NW Edmonton AB T6J 6W9 Canada;X-APPLE-RADIUS=500;X-TITLE=10740-19 Avenue NW:geo:-113.506732,53.44805
END:VEVENT
BEGIN:VEVENT
DTSTART;TZID=America/Edmonton:20310105T111500
DTEND;TZID=America/Edmonton:20310105T121500
DTSTAMP:20260421T031122
CREATED:20240924T184434Z
LAST-MODIFIED:20260220T215235Z
UID:10005173-1925378100-1925381700@ssucedmonton.com
SUMMARY:Post-Gathering Reflections
DESCRIPTION:Every week at about 11:15 MDT\, join in a casual zoom conversation to connect and discuss the morning’s gathering in ways it resonates and challenges.
URL:https://ssucedmonton.com/event/post-gathering-reflections-2/2031-01-05/
LOCATION:SSUC Edmonton- Spiritual Seekers United in Community\, 10740-19 Avenue NW\, Edmonton\, AB\, T6J 6W9\, Canada
CATEGORIES:Seminar/Workshop
ATTACH;FMTTYPE=image/png:https://ssucedmonton.com/wp-content/uploads/2024/07/Untitled-design-3-e1724004586746.png
GEO:53.44805;-113.506732
X-APPLE-STRUCTURED-LOCATION;VALUE=URI;X-ADDRESS=SSUC Edmonton- Spiritual Seekers United in Community 10740-19 Avenue NW Edmonton AB T6J 6W9 Canada;X-APPLE-RADIUS=500;X-TITLE=10740-19 Avenue NW:geo:-113.506732,53.44805
END:VEVENT
BEGIN:VEVENT
DTSTART;TZID=America/Edmonton:20310112T111500
DTEND;TZID=America/Edmonton:20310112T121500
DTSTAMP:20260421T031122
CREATED:20240924T184434Z
LAST-MODIFIED:20260220T215235Z
UID:10005185-1925982900-1925986500@ssucedmonton.com
SUMMARY:Post-Gathering Reflections
DESCRIPTION:Every week at about 11:15 MDT\, join in a casual zoom conversation to connect and discuss the morning’s gathering in ways it resonates and challenges.
URL:https://ssucedmonton.com/event/post-gathering-reflections-2/2031-01-12/
LOCATION:SSUC Edmonton- Spiritual Seekers United in Community\, 10740-19 Avenue NW\, Edmonton\, AB\, T6J 6W9\, Canada
CATEGORIES:Seminar/Workshop
ATTACH;FMTTYPE=image/png:https://ssucedmonton.com/wp-content/uploads/2024/07/Untitled-design-3-e1724004586746.png
GEO:53.44805;-113.506732
X-APPLE-STRUCTURED-LOCATION;VALUE=URI;X-ADDRESS=SSUC Edmonton- Spiritual Seekers United in Community 10740-19 Avenue NW Edmonton AB T6J 6W9 Canada;X-APPLE-RADIUS=500;X-TITLE=10740-19 Avenue NW:geo:-113.506732,53.44805
END:VEVENT
BEGIN:VEVENT
DTSTART;TZID=America/Edmonton:20310119T111500
DTEND;TZID=America/Edmonton:20310119T121500
DTSTAMP:20260421T031122
CREATED:20240924T184434Z
LAST-MODIFIED:20260220T215235Z
UID:10005192-1926587700-1926591300@ssucedmonton.com
SUMMARY:Post-Gathering Reflections
DESCRIPTION:Every week at about 11:15 MDT\, join in a casual zoom conversation to connect and discuss the morning’s gathering in ways it resonates and challenges.
URL:https://ssucedmonton.com/event/post-gathering-reflections-2/2031-01-19/
LOCATION:SSUC Edmonton- Spiritual Seekers United in Community\, 10740-19 Avenue NW\, Edmonton\, AB\, T6J 6W9\, Canada
CATEGORIES:Seminar/Workshop
ATTACH;FMTTYPE=image/png:https://ssucedmonton.com/wp-content/uploads/2024/07/Untitled-design-3-e1724004586746.png
GEO:53.44805;-113.506732
X-APPLE-STRUCTURED-LOCATION;VALUE=URI;X-ADDRESS=SSUC Edmonton- Spiritual Seekers United in Community 10740-19 Avenue NW Edmonton AB T6J 6W9 Canada;X-APPLE-RADIUS=500;X-TITLE=10740-19 Avenue NW:geo:-113.506732,53.44805
END:VEVENT
BEGIN:VEVENT
DTSTART;TZID=America/Edmonton:20310126T111500
DTEND;TZID=America/Edmonton:20310126T121500
DTSTAMP:20260421T031122
CREATED:20240924T184434Z
LAST-MODIFIED:20260220T215235Z
UID:10005201-1927192500-1927196100@ssucedmonton.com
SUMMARY:Post-Gathering Reflections
DESCRIPTION:Every week at about 11:15 MDT\, join in a casual zoom conversation to connect and discuss the morning’s gathering in ways it resonates and challenges.
URL:https://ssucedmonton.com/event/post-gathering-reflections-2/2031-01-26/
LOCATION:SSUC Edmonton- Spiritual Seekers United in Community\, 10740-19 Avenue NW\, Edmonton\, AB\, T6J 6W9\, Canada
CATEGORIES:Seminar/Workshop
ATTACH;FMTTYPE=image/png:https://ssucedmonton.com/wp-content/uploads/2024/07/Untitled-design-3-e1724004586746.png
GEO:53.44805;-113.506732
X-APPLE-STRUCTURED-LOCATION;VALUE=URI;X-ADDRESS=SSUC Edmonton- Spiritual Seekers United in Community 10740-19 Avenue NW Edmonton AB T6J 6W9 Canada;X-APPLE-RADIUS=500;X-TITLE=10740-19 Avenue NW:geo:-113.506732,53.44805
END:VEVENT
BEGIN:VEVENT
DTSTART;TZID=America/Edmonton:20310202T111500
DTEND;TZID=America/Edmonton:20310202T121500
DTSTAMP:20260421T031122
CREATED:20240924T184434Z
LAST-MODIFIED:20260220T215235Z
UID:10005210-1927797300-1927800900@ssucedmonton.com
SUMMARY:Post-Gathering Reflections
DESCRIPTION:Every week at about 11:15 MDT\, join in a casual zoom conversation to connect and discuss the morning’s gathering in ways it resonates and challenges.
URL:https://ssucedmonton.com/event/post-gathering-reflections-2/2031-02-02/
LOCATION:SSUC Edmonton- Spiritual Seekers United in Community\, 10740-19 Avenue NW\, Edmonton\, AB\, T6J 6W9\, Canada
CATEGORIES:Seminar/Workshop
ATTACH;FMTTYPE=image/png:https://ssucedmonton.com/wp-content/uploads/2024/07/Untitled-design-3-e1724004586746.png
GEO:53.44805;-113.506732
X-APPLE-STRUCTURED-LOCATION;VALUE=URI;X-ADDRESS=SSUC Edmonton- Spiritual Seekers United in Community 10740-19 Avenue NW Edmonton AB T6J 6W9 Canada;X-APPLE-RADIUS=500;X-TITLE=10740-19 Avenue NW:geo:-113.506732,53.44805
END:VEVENT
BEGIN:VEVENT
DTSTART;TZID=America/Edmonton:20310209T111500
DTEND;TZID=America/Edmonton:20310209T121500
DTSTAMP:20260421T031122
CREATED:20240924T184434Z
LAST-MODIFIED:20260220T215235Z
UID:10005217-1928402100-1928405700@ssucedmonton.com
SUMMARY:Post-Gathering Reflections
DESCRIPTION:Every week at about 11:15 MDT\, join in a casual zoom conversation to connect and discuss the morning’s gathering in ways it resonates and challenges.
URL:https://ssucedmonton.com/event/post-gathering-reflections-2/2031-02-09/
LOCATION:SSUC Edmonton- Spiritual Seekers United in Community\, 10740-19 Avenue NW\, Edmonton\, AB\, T6J 6W9\, Canada
CATEGORIES:Seminar/Workshop
ATTACH;FMTTYPE=image/png:https://ssucedmonton.com/wp-content/uploads/2024/07/Untitled-design-3-e1724004586746.png
GEO:53.44805;-113.506732
X-APPLE-STRUCTURED-LOCATION;VALUE=URI;X-ADDRESS=SSUC Edmonton- Spiritual Seekers United in Community 10740-19 Avenue NW Edmonton AB T6J 6W9 Canada;X-APPLE-RADIUS=500;X-TITLE=10740-19 Avenue NW:geo:-113.506732,53.44805
END:VEVENT
BEGIN:VEVENT
DTSTART;TZID=America/Edmonton:20310216T111500
DTEND;TZID=America/Edmonton:20310216T121500
DTSTAMP:20260421T031122
CREATED:20240924T184434Z
LAST-MODIFIED:20260220T215235Z
UID:10005226-1929006900-1929010500@ssucedmonton.com
SUMMARY:Post-Gathering Reflections
DESCRIPTION:Every week at about 11:15 MDT\, join in a casual zoom conversation to connect and discuss the morning’s gathering in ways it resonates and challenges.
URL:https://ssucedmonton.com/event/post-gathering-reflections-2/2031-02-16/
LOCATION:SSUC Edmonton- Spiritual Seekers United in Community\, 10740-19 Avenue NW\, Edmonton\, AB\, T6J 6W9\, Canada
CATEGORIES:Seminar/Workshop
ATTACH;FMTTYPE=image/png:https://ssucedmonton.com/wp-content/uploads/2024/07/Untitled-design-3-e1724004586746.png
GEO:53.44805;-113.506732
X-APPLE-STRUCTURED-LOCATION;VALUE=URI;X-ADDRESS=SSUC Edmonton- Spiritual Seekers United in Community 10740-19 Avenue NW Edmonton AB T6J 6W9 Canada;X-APPLE-RADIUS=500;X-TITLE=10740-19 Avenue NW:geo:-113.506732,53.44805
END:VEVENT
BEGIN:VEVENT
DTSTART;TZID=America/Edmonton:20310223T111500
DTEND;TZID=America/Edmonton:20310223T121500
DTSTAMP:20260421T031122
CREATED:20240924T184434Z
LAST-MODIFIED:20260220T215235Z
UID:10005252-1929611700-1929615300@ssucedmonton.com
SUMMARY:Post-Gathering Reflections
DESCRIPTION:Every week at about 11:15 MDT\, join in a casual zoom conversation to connect and discuss the morning’s gathering in ways it resonates and challenges.
URL:https://ssucedmonton.com/event/post-gathering-reflections-2/2031-02-23/
LOCATION:SSUC Edmonton- Spiritual Seekers United in Community\, 10740-19 Avenue NW\, Edmonton\, AB\, T6J 6W9\, Canada
CATEGORIES:Seminar/Workshop
ATTACH;FMTTYPE=image/png:https://ssucedmonton.com/wp-content/uploads/2024/07/Untitled-design-3-e1724004586746.png
GEO:53.44805;-113.506732
X-APPLE-STRUCTURED-LOCATION;VALUE=URI;X-ADDRESS=SSUC Edmonton- Spiritual Seekers United in Community 10740-19 Avenue NW Edmonton AB T6J 6W9 Canada;X-APPLE-RADIUS=500;X-TITLE=10740-19 Avenue NW:geo:-113.506732,53.44805
END:VEVENT
BEGIN:VEVENT
DTSTART;TZID=America/Edmonton:20310302T111500
DTEND;TZID=America/Edmonton:20310302T121500
DTSTAMP:20260421T031122
CREATED:20240924T184434Z
LAST-MODIFIED:20260220T215235Z
UID:10005274-1930216500-1930220100@ssucedmonton.com
SUMMARY:Post-Gathering Reflections
DESCRIPTION:Every week at about 11:15 MDT\, join in a casual zoom conversation to connect and discuss the morning’s gathering in ways it resonates and challenges.
URL:https://ssucedmonton.com/event/post-gathering-reflections-2/2031-03-02/
LOCATION:SSUC Edmonton- Spiritual Seekers United in Community\, 10740-19 Avenue NW\, Edmonton\, AB\, T6J 6W9\, Canada
CATEGORIES:Seminar/Workshop
ATTACH;FMTTYPE=image/png:https://ssucedmonton.com/wp-content/uploads/2024/07/Untitled-design-3-e1724004586746.png
GEO:53.44805;-113.506732
X-APPLE-STRUCTURED-LOCATION;VALUE=URI;X-ADDRESS=SSUC Edmonton- Spiritual Seekers United in Community 10740-19 Avenue NW Edmonton AB T6J 6W9 Canada;X-APPLE-RADIUS=500;X-TITLE=10740-19 Avenue NW:geo:-113.506732,53.44805
END:VEVENT
BEGIN:VEVENT
DTSTART;TZID=America/Edmonton:20310309T111500
DTEND;TZID=America/Edmonton:20310309T121500
DTSTAMP:20260421T031122
CREATED:20240924T184434Z
LAST-MODIFIED:20260220T215235Z
UID:10005318-1930821300-1930824900@ssucedmonton.com
SUMMARY:Post-Gathering Reflections
DESCRIPTION:Every week at about 11:15 MDT\, join in a casual zoom conversation to connect and discuss the morning’s gathering in ways it resonates and challenges.
URL:https://ssucedmonton.com/event/post-gathering-reflections-2/2031-03-09/
LOCATION:SSUC Edmonton- Spiritual Seekers United in Community\, 10740-19 Avenue NW\, Edmonton\, AB\, T6J 6W9\, Canada
CATEGORIES:Seminar/Workshop
ATTACH;FMTTYPE=image/png:https://ssucedmonton.com/wp-content/uploads/2024/07/Untitled-design-3-e1724004586746.png
GEO:53.44805;-113.506732
X-APPLE-STRUCTURED-LOCATION;VALUE=URI;X-ADDRESS=SSUC Edmonton- Spiritual Seekers United in Community 10740-19 Avenue NW Edmonton AB T6J 6W9 Canada;X-APPLE-RADIUS=500;X-TITLE=10740-19 Avenue NW:geo:-113.506732,53.44805
END:VEVENT
BEGIN:VEVENT
DTSTART;TZID=America/Edmonton:20310316T111500
DTEND;TZID=America/Edmonton:20310316T121500
DTSTAMP:20260421T031122
CREATED:20240924T184434Z
LAST-MODIFIED:20260220T215235Z
UID:10005327-1931426100-1931429700@ssucedmonton.com
SUMMARY:Post-Gathering Reflections
DESCRIPTION:Every week at about 11:15 MDT\, join in a casual zoom conversation to connect and discuss the morning’s gathering in ways it resonates and challenges.
URL:https://ssucedmonton.com/event/post-gathering-reflections-2/2031-03-16/
LOCATION:SSUC Edmonton- Spiritual Seekers United in Community\, 10740-19 Avenue NW\, Edmonton\, AB\, T6J 6W9\, Canada
CATEGORIES:Seminar/Workshop
ATTACH;FMTTYPE=image/png:https://ssucedmonton.com/wp-content/uploads/2024/07/Untitled-design-3-e1724004586746.png
GEO:53.44805;-113.506732
X-APPLE-STRUCTURED-LOCATION;VALUE=URI;X-ADDRESS=SSUC Edmonton- Spiritual Seekers United in Community 10740-19 Avenue NW Edmonton AB T6J 6W9 Canada;X-APPLE-RADIUS=500;X-TITLE=10740-19 Avenue NW:geo:-113.506732,53.44805
END:VEVENT
BEGIN:VEVENT
DTSTART;TZID=America/Edmonton:20310323T111500
DTEND;TZID=America/Edmonton:20310323T121500
DTSTAMP:20260421T031122
CREATED:20240924T184434Z
LAST-MODIFIED:20260220T215235Z
UID:10005342-1932030900-1932034500@ssucedmonton.com
SUMMARY:Post-Gathering Reflections
DESCRIPTION:Every week at about 11:15 MDT\, join in a casual zoom conversation to connect and discuss the morning’s gathering in ways it resonates and challenges.
URL:https://ssucedmonton.com/event/post-gathering-reflections-2/2031-03-23/
LOCATION:SSUC Edmonton- Spiritual Seekers United in Community\, 10740-19 Avenue NW\, Edmonton\, AB\, T6J 6W9\, Canada
CATEGORIES:Seminar/Workshop
ATTACH;FMTTYPE=image/png:https://ssucedmonton.com/wp-content/uploads/2024/07/Untitled-design-3-e1724004586746.png
GEO:53.44805;-113.506732
X-APPLE-STRUCTURED-LOCATION;VALUE=URI;X-ADDRESS=SSUC Edmonton- Spiritual Seekers United in Community 10740-19 Avenue NW Edmonton AB T6J 6W9 Canada;X-APPLE-RADIUS=500;X-TITLE=10740-19 Avenue NW:geo:-113.506732,53.44805
END:VEVENT
BEGIN:VEVENT
DTSTART;TZID=America/Edmonton:20310330T111500
DTEND;TZID=America/Edmonton:20310330T121500
DTSTAMP:20260421T031122
CREATED:20240924T184434Z
LAST-MODIFIED:20260220T215235Z
UID:10005351-1932635700-1932639300@ssucedmonton.com
SUMMARY:Post-Gathering Reflections
DESCRIPTION:Every week at about 11:15 MDT\, join in a casual zoom conversation to connect and discuss the morning’s gathering in ways it resonates and challenges.
URL:https://ssucedmonton.com/event/post-gathering-reflections-2/2031-03-30/
LOCATION:SSUC Edmonton- Spiritual Seekers United in Community\, 10740-19 Avenue NW\, Edmonton\, AB\, T6J 6W9\, Canada
CATEGORIES:Seminar/Workshop
ATTACH;FMTTYPE=image/png:https://ssucedmonton.com/wp-content/uploads/2024/07/Untitled-design-3-e1724004586746.png
GEO:53.44805;-113.506732
X-APPLE-STRUCTURED-LOCATION;VALUE=URI;X-ADDRESS=SSUC Edmonton- Spiritual Seekers United in Community 10740-19 Avenue NW Edmonton AB T6J 6W9 Canada;X-APPLE-RADIUS=500;X-TITLE=10740-19 Avenue NW:geo:-113.506732,53.44805
END:VEVENT
BEGIN:VEVENT
DTSTART;TZID=America/Edmonton:20310406T111500
DTEND;TZID=America/Edmonton:20310406T121500
DTSTAMP:20260421T031122
CREATED:20240924T184434Z
LAST-MODIFIED:20260220T215235Z
UID:10005363-1933240500-1933244100@ssucedmonton.com
SUMMARY:Post-Gathering Reflections
DESCRIPTION:Every week at about 11:15 MDT\, join in a casual zoom conversation to connect and discuss the morning’s gathering in ways it resonates and challenges.
URL:https://ssucedmonton.com/event/post-gathering-reflections-2/2031-04-06/
LOCATION:SSUC Edmonton- Spiritual Seekers United in Community\, 10740-19 Avenue NW\, Edmonton\, AB\, T6J 6W9\, Canada
CATEGORIES:Seminar/Workshop
ATTACH;FMTTYPE=image/png:https://ssucedmonton.com/wp-content/uploads/2024/07/Untitled-design-3-e1724004586746.png
GEO:53.44805;-113.506732
X-APPLE-STRUCTURED-LOCATION;VALUE=URI;X-ADDRESS=SSUC Edmonton- Spiritual Seekers United in Community 10740-19 Avenue NW Edmonton AB T6J 6W9 Canada;X-APPLE-RADIUS=500;X-TITLE=10740-19 Avenue NW:geo:-113.506732,53.44805
END:VEVENT
BEGIN:VEVENT
DTSTART;TZID=America/Edmonton:20310413T111500
DTEND;TZID=America/Edmonton:20310413T121500
DTSTAMP:20260421T031122
CREATED:20240924T184434Z
LAST-MODIFIED:20260220T215235Z
UID:10005382-1933845300-1933848900@ssucedmonton.com
SUMMARY:Post-Gathering Reflections
DESCRIPTION:Every week at about 11:15 MDT\, join in a casual zoom conversation to connect and discuss the morning’s gathering in ways it resonates and challenges.
URL:https://ssucedmonton.com/event/post-gathering-reflections-2/2031-04-13/
LOCATION:SSUC Edmonton- Spiritual Seekers United in Community\, 10740-19 Avenue NW\, Edmonton\, AB\, T6J 6W9\, Canada
CATEGORIES:Seminar/Workshop
ATTACH;FMTTYPE=image/png:https://ssucedmonton.com/wp-content/uploads/2024/07/Untitled-design-3-e1724004586746.png
GEO:53.44805;-113.506732
X-APPLE-STRUCTURED-LOCATION;VALUE=URI;X-ADDRESS=SSUC Edmonton- Spiritual Seekers United in Community 10740-19 Avenue NW Edmonton AB T6J 6W9 Canada;X-APPLE-RADIUS=500;X-TITLE=10740-19 Avenue NW:geo:-113.506732,53.44805
END:VEVENT
END:VCALENDAR