BEGIN:VCALENDAR
VERSION:2.0
PRODID:-//Spiritual Seekers United in Community - ECPv6.15.20//NONSGML v1.0//EN
CALSCALE:GREGORIAN
METHOD:PUBLISH
X-ORIGINAL-URL:https://ssucedmonton.com
X-WR-CALDESC:Events for Spiritual Seekers United in Community
REFRESH-INTERVAL;VALUE=DURATION:PT1H
X-Robots-Tag:noindex
X-PUBLISHED-TTL:PT1H
BEGIN:VTIMEZONE
TZID:America/Edmonton
BEGIN:DAYLIGHT
TZOFFSETFROM:-0700
TZOFFSETTO:-0600
TZNAME:MDT
DTSTART:20290311T090000
END:DAYLIGHT
BEGIN:STANDARD
TZOFFSETFROM:-0600
TZOFFSETTO:-0700
TZNAME:MST
DTSTART:20291104T080000
END:STANDARD
BEGIN:DAYLIGHT
TZOFFSETFROM:-0700
TZOFFSETTO:-0600
TZNAME:MDT
DTSTART:20300310T090000
END:DAYLIGHT
BEGIN:STANDARD
TZOFFSETFROM:-0600
TZOFFSETTO:-0700
TZNAME:MST
DTSTART:20301103T080000
END:STANDARD
BEGIN:DAYLIGHT
TZOFFSETFROM:-0700
TZOFFSETTO:-0600
TZNAME:MDT
DTSTART:20310309T090000
END:DAYLIGHT
BEGIN:STANDARD
TZOFFSETFROM:-0600
TZOFFSETTO:-0700
TZNAME:MST
DTSTART:20311102T080000
END:STANDARD
END:VTIMEZONE
BEGIN:VEVENT
DTSTART;TZID=America/Edmonton:20300430T100000
DTEND;TZID=America/Edmonton:20300430T113000
DTSTAMP:20260419T173400
CREATED:20251119T214125Z
LAST-MODIFIED:20260416T195015Z
UID:10005093-1903773600-1903779000@ssucedmonton.com
SUMMARY:Men's Coffee Group
DESCRIPTION:Tuesdays at 10:00 a.m. in the lower level Music Room. Bring your own coffee mug.
URL:https://ssucedmonton.com/event/mens-coffee-group/2030-04-30/
CATEGORIES:Social Group
END:VEVENT
BEGIN:VEVENT
DTSTART;TZID=America/Edmonton:20300507T100000
DTEND;TZID=America/Edmonton:20300507T113000
DTSTAMP:20260419T173400
CREATED:20251119T214125Z
LAST-MODIFIED:20260416T195015Z
UID:10005094-1904378400-1904383800@ssucedmonton.com
SUMMARY:Men's Coffee Group
DESCRIPTION:Tuesdays at 10:00 a.m. in the lower level Music Room. Bring your own coffee mug.
URL:https://ssucedmonton.com/event/mens-coffee-group/2030-05-07/
CATEGORIES:Social Group
END:VEVENT
BEGIN:VEVENT
DTSTART;TZID=America/Edmonton:20300514T100000
DTEND;TZID=America/Edmonton:20300514T113000
DTSTAMP:20260419T173400
CREATED:20251119T214125Z
LAST-MODIFIED:20260416T195015Z
UID:10005095-1904983200-1904988600@ssucedmonton.com
SUMMARY:Men's Coffee Group
DESCRIPTION:Tuesdays at 10:00 a.m. in the lower level Music Room. Bring your own coffee mug.
URL:https://ssucedmonton.com/event/mens-coffee-group/2030-05-14/
CATEGORIES:Social Group
END:VEVENT
BEGIN:VEVENT
DTSTART;TZID=America/Edmonton:20300521T100000
DTEND;TZID=America/Edmonton:20300521T113000
DTSTAMP:20260419T173400
CREATED:20251119T214125Z
LAST-MODIFIED:20260416T195015Z
UID:10005096-1905588000-1905593400@ssucedmonton.com
SUMMARY:Men's Coffee Group
DESCRIPTION:Tuesdays at 10:00 a.m. in the lower level Music Room. Bring your own coffee mug.
URL:https://ssucedmonton.com/event/mens-coffee-group/2030-05-21/
CATEGORIES:Social Group
END:VEVENT
BEGIN:VEVENT
DTSTART;TZID=America/Edmonton:20300528T100000
DTEND;TZID=America/Edmonton:20300528T113000
DTSTAMP:20260419T173400
CREATED:20251119T214125Z
LAST-MODIFIED:20260416T195015Z
UID:10005097-1906192800-1906198200@ssucedmonton.com
SUMMARY:Men's Coffee Group
DESCRIPTION:Tuesdays at 10:00 a.m. in the lower level Music Room. Bring your own coffee mug.
URL:https://ssucedmonton.com/event/mens-coffee-group/2030-05-28/
CATEGORIES:Social Group
END:VEVENT
BEGIN:VEVENT
DTSTART;TZID=America/Edmonton:20300604T100000
DTEND;TZID=America/Edmonton:20300604T113000
DTSTAMP:20260419T173400
CREATED:20251119T214125Z
LAST-MODIFIED:20260416T195015Z
UID:10005098-1906797600-1906803000@ssucedmonton.com
SUMMARY:Men's Coffee Group
DESCRIPTION:Tuesdays at 10:00 a.m. in the lower level Music Room. Bring your own coffee mug.
URL:https://ssucedmonton.com/event/mens-coffee-group/2030-06-04/
CATEGORIES:Social Group
END:VEVENT
BEGIN:VEVENT
DTSTART;TZID=America/Edmonton:20300611T100000
DTEND;TZID=America/Edmonton:20300611T113000
DTSTAMP:20260419T173400
CREATED:20251119T214125Z
LAST-MODIFIED:20260416T195015Z
UID:10005099-1907402400-1907407800@ssucedmonton.com
SUMMARY:Men's Coffee Group
DESCRIPTION:Tuesdays at 10:00 a.m. in the lower level Music Room. Bring your own coffee mug.
URL:https://ssucedmonton.com/event/mens-coffee-group/2030-06-11/
CATEGORIES:Social Group
END:VEVENT
BEGIN:VEVENT
DTSTART;TZID=America/Edmonton:20300618T100000
DTEND;TZID=America/Edmonton:20300618T113000
DTSTAMP:20260419T173400
CREATED:20251119T214125Z
LAST-MODIFIED:20260416T195015Z
UID:10005100-1908007200-1908012600@ssucedmonton.com
SUMMARY:Men's Coffee Group
DESCRIPTION:Tuesdays at 10:00 a.m. in the lower level Music Room. Bring your own coffee mug.
URL:https://ssucedmonton.com/event/mens-coffee-group/2030-06-18/
CATEGORIES:Social Group
END:VEVENT
BEGIN:VEVENT
DTSTART;TZID=America/Edmonton:20300625T100000
DTEND;TZID=America/Edmonton:20300625T113000
DTSTAMP:20260419T173400
CREATED:20251119T214125Z
LAST-MODIFIED:20260416T195015Z
UID:10005101-1908612000-1908617400@ssucedmonton.com
SUMMARY:Men's Coffee Group
DESCRIPTION:Tuesdays at 10:00 a.m. in the lower level Music Room. Bring your own coffee mug.
URL:https://ssucedmonton.com/event/mens-coffee-group/2030-06-25/
CATEGORIES:Social Group
END:VEVENT
BEGIN:VEVENT
DTSTART;TZID=America/Edmonton:20300702T100000
DTEND;TZID=America/Edmonton:20300702T113000
DTSTAMP:20260419T173400
CREATED:20251119T214125Z
LAST-MODIFIED:20260416T195015Z
UID:10005102-1909216800-1909222200@ssucedmonton.com
SUMMARY:Men's Coffee Group
DESCRIPTION:Tuesdays at 10:00 a.m. in the lower level Music Room. Bring your own coffee mug.
URL:https://ssucedmonton.com/event/mens-coffee-group/2030-07-02/
CATEGORIES:Social Group
END:VEVENT
BEGIN:VEVENT
DTSTART;TZID=America/Edmonton:20300709T100000
DTEND;TZID=America/Edmonton:20300709T113000
DTSTAMP:20260419T173400
CREATED:20251119T214125Z
LAST-MODIFIED:20260416T195015Z
UID:10005103-1909821600-1909827000@ssucedmonton.com
SUMMARY:Men's Coffee Group
DESCRIPTION:Tuesdays at 10:00 a.m. in the lower level Music Room. Bring your own coffee mug.
URL:https://ssucedmonton.com/event/mens-coffee-group/2030-07-09/
CATEGORIES:Social Group
END:VEVENT
BEGIN:VEVENT
DTSTART;TZID=America/Edmonton:20300716T100000
DTEND;TZID=America/Edmonton:20300716T113000
DTSTAMP:20260419T173400
CREATED:20251119T214125Z
LAST-MODIFIED:20260416T195015Z
UID:10005104-1910426400-1910431800@ssucedmonton.com
SUMMARY:Men's Coffee Group
DESCRIPTION:Tuesdays at 10:00 a.m. in the lower level Music Room. Bring your own coffee mug.
URL:https://ssucedmonton.com/event/mens-coffee-group/2030-07-16/
CATEGORIES:Social Group
END:VEVENT
BEGIN:VEVENT
DTSTART;TZID=America/Edmonton:20300723T100000
DTEND;TZID=America/Edmonton:20300723T113000
DTSTAMP:20260419T173400
CREATED:20251119T214125Z
LAST-MODIFIED:20260416T195015Z
UID:10005105-1911031200-1911036600@ssucedmonton.com
SUMMARY:Men's Coffee Group
DESCRIPTION:Tuesdays at 10:00 a.m. in the lower level Music Room. Bring your own coffee mug.
URL:https://ssucedmonton.com/event/mens-coffee-group/2030-07-23/
CATEGORIES:Social Group
END:VEVENT
BEGIN:VEVENT
DTSTART;TZID=America/Edmonton:20300730T100000
DTEND;TZID=America/Edmonton:20300730T113000
DTSTAMP:20260419T173400
CREATED:20251119T214125Z
LAST-MODIFIED:20260416T195015Z
UID:10005106-1911636000-1911641400@ssucedmonton.com
SUMMARY:Men's Coffee Group
DESCRIPTION:Tuesdays at 10:00 a.m. in the lower level Music Room. Bring your own coffee mug.
URL:https://ssucedmonton.com/event/mens-coffee-group/2030-07-30/
CATEGORIES:Social Group
END:VEVENT
BEGIN:VEVENT
DTSTART;TZID=America/Edmonton:20300806T100000
DTEND;TZID=America/Edmonton:20300806T113000
DTSTAMP:20260419T173400
CREATED:20251119T214125Z
LAST-MODIFIED:20260416T195015Z
UID:10005107-1912240800-1912246200@ssucedmonton.com
SUMMARY:Men's Coffee Group
DESCRIPTION:Tuesdays at 10:00 a.m. in the lower level Music Room. Bring your own coffee mug.
URL:https://ssucedmonton.com/event/mens-coffee-group/2030-08-06/
CATEGORIES:Social Group
END:VEVENT
BEGIN:VEVENT
DTSTART;TZID=America/Edmonton:20300813T100000
DTEND;TZID=America/Edmonton:20300813T113000
DTSTAMP:20260419T173400
CREATED:20251119T214125Z
LAST-MODIFIED:20260416T195015Z
UID:10005108-1912845600-1912851000@ssucedmonton.com
SUMMARY:Men's Coffee Group
DESCRIPTION:Tuesdays at 10:00 a.m. in the lower level Music Room. Bring your own coffee mug.
URL:https://ssucedmonton.com/event/mens-coffee-group/2030-08-13/
CATEGORIES:Social Group
END:VEVENT
BEGIN:VEVENT
DTSTART;TZID=America/Edmonton:20300820T100000
DTEND;TZID=America/Edmonton:20300820T113000
DTSTAMP:20260419T173400
CREATED:20251119T214125Z
LAST-MODIFIED:20260416T195015Z
UID:10005109-1913450400-1913455800@ssucedmonton.com
SUMMARY:Men's Coffee Group
DESCRIPTION:Tuesdays at 10:00 a.m. in the lower level Music Room. Bring your own coffee mug.
URL:https://ssucedmonton.com/event/mens-coffee-group/2030-08-20/
CATEGORIES:Social Group
END:VEVENT
BEGIN:VEVENT
DTSTART;TZID=America/Edmonton:20300827T100000
DTEND;TZID=America/Edmonton:20300827T113000
DTSTAMP:20260419T173400
CREATED:20251119T214125Z
LAST-MODIFIED:20260416T195015Z
UID:10005110-1914055200-1914060600@ssucedmonton.com
SUMMARY:Men's Coffee Group
DESCRIPTION:Tuesdays at 10:00 a.m. in the lower level Music Room. Bring your own coffee mug.
URL:https://ssucedmonton.com/event/mens-coffee-group/2030-08-27/
CATEGORIES:Social Group
END:VEVENT
BEGIN:VEVENT
DTSTART;TZID=America/Edmonton:20300903T100000
DTEND;TZID=America/Edmonton:20300903T113000
DTSTAMP:20260419T173400
CREATED:20251119T214125Z
LAST-MODIFIED:20260416T195015Z
UID:10005111-1914660000-1914665400@ssucedmonton.com
SUMMARY:Men's Coffee Group
DESCRIPTION:Tuesdays at 10:00 a.m. in the lower level Music Room. Bring your own coffee mug.
URL:https://ssucedmonton.com/event/mens-coffee-group/2030-09-03/
CATEGORIES:Social Group
END:VEVENT
BEGIN:VEVENT
DTSTART;TZID=America/Edmonton:20300910T100000
DTEND;TZID=America/Edmonton:20300910T113000
DTSTAMP:20260419T173400
CREATED:20251119T214125Z
LAST-MODIFIED:20260416T195015Z
UID:10005112-1915264800-1915270200@ssucedmonton.com
SUMMARY:Men's Coffee Group
DESCRIPTION:Tuesdays at 10:00 a.m. in the lower level Music Room. Bring your own coffee mug.
URL:https://ssucedmonton.com/event/mens-coffee-group/2030-09-10/
CATEGORIES:Social Group
END:VEVENT
BEGIN:VEVENT
DTSTART;TZID=America/Edmonton:20300917T100000
DTEND;TZID=America/Edmonton:20300917T113000
DTSTAMP:20260419T173400
CREATED:20251119T214125Z
LAST-MODIFIED:20260416T195015Z
UID:10005113-1915869600-1915875000@ssucedmonton.com
SUMMARY:Men's Coffee Group
DESCRIPTION:Tuesdays at 10:00 a.m. in the lower level Music Room. Bring your own coffee mug.
URL:https://ssucedmonton.com/event/mens-coffee-group/2030-09-17/
CATEGORIES:Social Group
END:VEVENT
BEGIN:VEVENT
DTSTART;TZID=America/Edmonton:20300924T100000
DTEND;TZID=America/Edmonton:20300924T113000
DTSTAMP:20260419T173400
CREATED:20251119T214125Z
LAST-MODIFIED:20260416T195015Z
UID:10005114-1916474400-1916479800@ssucedmonton.com
SUMMARY:Men's Coffee Group
DESCRIPTION:Tuesdays at 10:00 a.m. in the lower level Music Room. Bring your own coffee mug.
URL:https://ssucedmonton.com/event/mens-coffee-group/2030-09-24/
CATEGORIES:Social Group
END:VEVENT
BEGIN:VEVENT
DTSTART;TZID=America/Edmonton:20301001T100000
DTEND;TZID=America/Edmonton:20301001T113000
DTSTAMP:20260419T173400
CREATED:20251119T214125Z
LAST-MODIFIED:20260416T195015Z
UID:10005115-1917079200-1917084600@ssucedmonton.com
SUMMARY:Men's Coffee Group
DESCRIPTION:Tuesdays at 10:00 a.m. in the lower level Music Room. Bring your own coffee mug.
URL:https://ssucedmonton.com/event/mens-coffee-group/2030-10-01/
CATEGORIES:Social Group
END:VEVENT
BEGIN:VEVENT
DTSTART;TZID=America/Edmonton:20301008T100000
DTEND;TZID=America/Edmonton:20301008T113000
DTSTAMP:20260419T173400
CREATED:20251119T214125Z
LAST-MODIFIED:20260416T195015Z
UID:10005116-1917684000-1917689400@ssucedmonton.com
SUMMARY:Men's Coffee Group
DESCRIPTION:Tuesdays at 10:00 a.m. in the lower level Music Room. Bring your own coffee mug.
URL:https://ssucedmonton.com/event/mens-coffee-group/2030-10-08/
CATEGORIES:Social Group
END:VEVENT
BEGIN:VEVENT
DTSTART;TZID=America/Edmonton:20301015T100000
DTEND;TZID=America/Edmonton:20301015T113000
DTSTAMP:20260419T173400
CREATED:20251119T214125Z
LAST-MODIFIED:20260416T195015Z
UID:10005117-1918288800-1918294200@ssucedmonton.com
SUMMARY:Men's Coffee Group
DESCRIPTION:Tuesdays at 10:00 a.m. in the lower level Music Room. Bring your own coffee mug.
URL:https://ssucedmonton.com/event/mens-coffee-group/2030-10-15/
CATEGORIES:Social Group
END:VEVENT
BEGIN:VEVENT
DTSTART;TZID=America/Edmonton:20301022T100000
DTEND;TZID=America/Edmonton:20301022T113000
DTSTAMP:20260419T173400
CREATED:20251119T214125Z
LAST-MODIFIED:20260416T195015Z
UID:10005118-1918893600-1918899000@ssucedmonton.com
SUMMARY:Men's Coffee Group
DESCRIPTION:Tuesdays at 10:00 a.m. in the lower level Music Room. Bring your own coffee mug.
URL:https://ssucedmonton.com/event/mens-coffee-group/2030-10-22/
CATEGORIES:Social Group
END:VEVENT
BEGIN:VEVENT
DTSTART;TZID=America/Edmonton:20301029T100000
DTEND;TZID=America/Edmonton:20301029T113000
DTSTAMP:20260419T173400
CREATED:20251119T214125Z
LAST-MODIFIED:20260416T195015Z
UID:10005119-1919498400-1919503800@ssucedmonton.com
SUMMARY:Men's Coffee Group
DESCRIPTION:Tuesdays at 10:00 a.m. in the lower level Music Room. Bring your own coffee mug.
URL:https://ssucedmonton.com/event/mens-coffee-group/2030-10-29/
CATEGORIES:Social Group
END:VEVENT
BEGIN:VEVENT
DTSTART;TZID=America/Edmonton:20301105T100000
DTEND;TZID=America/Edmonton:20301105T113000
DTSTAMP:20260419T173400
CREATED:20251119T214125Z
LAST-MODIFIED:20260416T195015Z
UID:10005120-1920103200-1920108600@ssucedmonton.com
SUMMARY:Men's Coffee Group
DESCRIPTION:Tuesdays at 10:00 a.m. in the lower level Music Room. Bring your own coffee mug.
URL:https://ssucedmonton.com/event/mens-coffee-group/2030-11-05/
CATEGORIES:Social Group
END:VEVENT
BEGIN:VEVENT
DTSTART;TZID=America/Edmonton:20301112T100000
DTEND;TZID=America/Edmonton:20301112T113000
DTSTAMP:20260419T173400
CREATED:20251119T214125Z
LAST-MODIFIED:20260416T195015Z
UID:10005121-1920708000-1920713400@ssucedmonton.com
SUMMARY:Men's Coffee Group
DESCRIPTION:Tuesdays at 10:00 a.m. in the lower level Music Room. Bring your own coffee mug.
URL:https://ssucedmonton.com/event/mens-coffee-group/2030-11-12/
CATEGORIES:Social Group
END:VEVENT
BEGIN:VEVENT
DTSTART;TZID=America/Edmonton:20301119T100000
DTEND;TZID=America/Edmonton:20301119T113000
DTSTAMP:20260419T173400
CREATED:20251119T214125Z
LAST-MODIFIED:20260416T195015Z
UID:10005122-1921312800-1921318200@ssucedmonton.com
SUMMARY:Men's Coffee Group
DESCRIPTION:Tuesdays at 10:00 a.m. in the lower level Music Room. Bring your own coffee mug.
URL:https://ssucedmonton.com/event/mens-coffee-group/2030-11-19/
CATEGORIES:Social Group
END:VEVENT
END:VCALENDAR