BEGIN:VCALENDAR
VERSION:2.0
PRODID:-//Spiritual Seekers United in Community - ECPv6.15.20//NONSGML v1.0//EN
CALSCALE:GREGORIAN
METHOD:PUBLISH
X-ORIGINAL-URL:https://ssucedmonton.com
X-WR-CALDESC:Events for Spiritual Seekers United in Community
REFRESH-INTERVAL;VALUE=DURATION:PT1H
X-Robots-Tag:noindex
X-PUBLISHED-TTL:PT1H
BEGIN:VTIMEZONE
TZID:America/Edmonton
BEGIN:DAYLIGHT
TZOFFSETFROM:-0700
TZOFFSETTO:-0600
TZNAME:MDT
DTSTART:20270314T090000
END:DAYLIGHT
BEGIN:STANDARD
TZOFFSETFROM:-0600
TZOFFSETTO:-0700
TZNAME:MST
DTSTART:20271107T080000
END:STANDARD
BEGIN:DAYLIGHT
TZOFFSETFROM:-0700
TZOFFSETTO:-0600
TZNAME:MDT
DTSTART:20280312T090000
END:DAYLIGHT
BEGIN:STANDARD
TZOFFSETFROM:-0600
TZOFFSETTO:-0700
TZNAME:MST
DTSTART:20281105T080000
END:STANDARD
BEGIN:DAYLIGHT
TZOFFSETFROM:-0700
TZOFFSETTO:-0600
TZNAME:MDT
DTSTART:20290311T090000
END:DAYLIGHT
BEGIN:STANDARD
TZOFFSETFROM:-0600
TZOFFSETTO:-0700
TZNAME:MST
DTSTART:20291104T080000
END:STANDARD
END:VTIMEZONE
BEGIN:VEVENT
DTSTART;TZID=America/Edmonton:20280820T111500
DTEND;TZID=America/Edmonton:20280820T121500
DTSTAMP:20260420T010511
CREATED:20240924T184434Z
LAST-MODIFIED:20260220T215235Z
UID:10000740-1850382900-1850386500@ssucedmonton.com
SUMMARY:Post-Gathering Reflections
DESCRIPTION:Every week at about 11:15 MDT\, join in a casual zoom conversation to connect and discuss the morning’s gathering in ways it resonates and challenges.
URL:https://ssucedmonton.com/event/post-gathering-reflections-2/2028-08-20/
LOCATION:SSUC Edmonton- Spiritual Seekers United in Community\, 10740-19 Avenue NW\, Edmonton\, AB\, T6J 6W9\, Canada
CATEGORIES:Seminar/Workshop
ATTACH;FMTTYPE=image/png:https://ssucedmonton.com/wp-content/uploads/2024/07/Untitled-design-3-e1724004586746.png
GEO:53.44805;-113.506732
X-APPLE-STRUCTURED-LOCATION;VALUE=URI;X-ADDRESS=SSUC Edmonton- Spiritual Seekers United in Community 10740-19 Avenue NW Edmonton AB T6J 6W9 Canada;X-APPLE-RADIUS=500;X-TITLE=10740-19 Avenue NW:geo:-113.506732,53.44805
END:VEVENT
BEGIN:VEVENT
DTSTART;TZID=America/Edmonton:20280822T100000
DTEND;TZID=America/Edmonton:20280822T113000
DTSTAMP:20260420T010511
CREATED:20251119T214125Z
LAST-MODIFIED:20260416T195015Z
UID:10005005-1850551200-1850556600@ssucedmonton.com
SUMMARY:Men's Coffee Group
DESCRIPTION:Tuesdays at 10:00 a.m. in the lower level Music Room. Bring your own coffee mug.
URL:https://ssucedmonton.com/event/mens-coffee-group/2028-08-22/
LOCATION:AB
CATEGORIES:Social Group
END:VEVENT
BEGIN:VEVENT
DTSTART;TZID=America/Edmonton:20280824T170000
DTEND;TZID=America/Edmonton:20280824T180000
DTSTAMP:20260420T010511
CREATED:20240714T204433Z
LAST-MODIFIED:20241009T182257Z
UID:10001525-1850749200-1850752800@ssucedmonton.com
SUMMARY:Food Bank Distribution
DESCRIPTION:Pick up depot for registered food bank clients.
URL:https://ssucedmonton.com/event/food-bank-distribution/2028-08-24/
LOCATION:SSUC Edmonton- Spiritual Seekers United in Community\, 10740-19 Avenue NW\, Edmonton\, AB\, T6J 6W9\, Canada
CATEGORIES:Resource Group
ATTACH;FMTTYPE=image/png:https://ssucedmonton.com/wp-content/uploads/2024/07/Untitled-design-6-e1728498041672.png
GEO:53.44805;-113.506732
X-APPLE-STRUCTURED-LOCATION;VALUE=URI;X-ADDRESS=SSUC Edmonton- Spiritual Seekers United in Community 10740-19 Avenue NW Edmonton AB T6J 6W9 Canada;X-APPLE-RADIUS=500;X-TITLE=10740-19 Avenue NW:geo:-113.506732,53.44805
END:VEVENT
BEGIN:VEVENT
DTSTART;TZID=America/Edmonton:20280824T180000
DTEND;TZID=America/Edmonton:20280824T190000
DTSTAMP:20260420T010511
CREATED:20241001T173552Z
LAST-MODIFIED:20241223T233508Z
UID:10002612-1850752800-1850756400@ssucedmonton.com
SUMMARY:Resource Discussion Group
DESCRIPTION:A weekly discussion group\, with a new topic each week. All are welcome. \n\nA weekly time for meaningful conversations.\nA space for ‘resourcing’ ourselves for living our values.\nA time for connecting as community.
URL:https://ssucedmonton.com/event/resource-discussion-group/2028-08-24/
LOCATION:SSUC Edmonton- Spiritual Seekers United in Community\, 10740-19 Avenue NW\, Edmonton\, AB\, T6J 6W9\, Canada
CATEGORIES:Resource Group
ATTACH;FMTTYPE=image/png:https://ssucedmonton.com/wp-content/uploads/2024/10/Resource-Fall2024.png
GEO:53.44805;-113.506732
X-APPLE-STRUCTURED-LOCATION;VALUE=URI;X-ADDRESS=SSUC Edmonton- Spiritual Seekers United in Community 10740-19 Avenue NW Edmonton AB T6J 6W9 Canada;X-APPLE-RADIUS=500;X-TITLE=10740-19 Avenue NW:geo:-113.506732,53.44805
END:VEVENT
BEGIN:VEVENT
DTSTART;TZID=America/Edmonton:20280824T191500
DTEND;TZID=America/Edmonton:20280824T210000
DTSTAMP:20260420T010511
CREATED:20250724T174610Z
LAST-MODIFIED:20251119T213753Z
UID:10004745-1850757300-1850763600@ssucedmonton.com
SUMMARY:Choir Rehearsal
DESCRIPTION:All welcome.
URL:https://ssucedmonton.com/event/choir-rehearsal/2028-08-24/
LOCATION:SSUC Edmonton- Spiritual Seekers United in Community\, 10740-19 Avenue NW\, Edmonton\, AB\, T6J 6W9\, Canada
CATEGORIES:Choir Rehearsal
GEO:53.44805;-113.506732
X-APPLE-STRUCTURED-LOCATION;VALUE=URI;X-ADDRESS=SSUC Edmonton- Spiritual Seekers United in Community 10740-19 Avenue NW Edmonton AB T6J 6W9 Canada;X-APPLE-RADIUS=500;X-TITLE=10740-19 Avenue NW:geo:-113.506732,53.44805
END:VEVENT
BEGIN:VEVENT
DTSTART;TZID=America/Edmonton:20280827T100000
DTEND;TZID=America/Edmonton:20280827T110000
DTSTAMP:20260420T010511
CREATED:20240711T222544Z
LAST-MODIFIED:20260327T205223Z
UID:10000219-1850983200-1850986800@ssucedmonton.com
SUMMARY:Spiritual Gathering (In-Person & Online)
DESCRIPTION:Join us for a Sunday morning of music\, community\, spiritual reflection\, and strengthening our commitment to live fully and love deeply in relation. As an affirming community\, we seek to explore and celebrate our spirituality together as people of every age\, gender\, race\, sexual orientation\, gender identity\, mental or physical ability\, marital status\, economic or cultural background.
URL:https://ssucedmonton.com/event/spiritual-gathering-in-person-online/2028-08-27/
LOCATION:SSUC Edmonton- Spiritual Seekers United in Community\, 10740-19 Avenue NW\, Edmonton\, AB\, T6J 6W9\, Canada
CATEGORIES:Affirming Event,Community Event,Hybrid Event
ATTACH;FMTTYPE=image/png:https://ssucedmonton.com/wp-content/uploads/2024/07/rhythm-2-1.png
GEO:53.44805;-113.506732
X-APPLE-STRUCTURED-LOCATION;VALUE=URI;X-ADDRESS=SSUC Edmonton- Spiritual Seekers United in Community 10740-19 Avenue NW Edmonton AB T6J 6W9 Canada;X-APPLE-RADIUS=500;X-TITLE=10740-19 Avenue NW:geo:-113.506732,53.44805
END:VEVENT
BEGIN:VEVENT
DTSTART;TZID=America/Edmonton:20280827T111500
DTEND;TZID=America/Edmonton:20280827T121500
DTSTAMP:20260420T010511
CREATED:20240924T184434Z
LAST-MODIFIED:20260220T215235Z
UID:10000741-1850987700-1850991300@ssucedmonton.com
SUMMARY:Post-Gathering Reflections
DESCRIPTION:Every week at about 11:15 MDT\, join in a casual zoom conversation to connect and discuss the morning’s gathering in ways it resonates and challenges.
URL:https://ssucedmonton.com/event/post-gathering-reflections-2/2028-08-27/
LOCATION:SSUC Edmonton- Spiritual Seekers United in Community\, 10740-19 Avenue NW\, Edmonton\, AB\, T6J 6W9\, Canada
CATEGORIES:Seminar/Workshop
ATTACH;FMTTYPE=image/png:https://ssucedmonton.com/wp-content/uploads/2024/07/Untitled-design-3-e1724004586746.png
GEO:53.44805;-113.506732
X-APPLE-STRUCTURED-LOCATION;VALUE=URI;X-ADDRESS=SSUC Edmonton- Spiritual Seekers United in Community 10740-19 Avenue NW Edmonton AB T6J 6W9 Canada;X-APPLE-RADIUS=500;X-TITLE=10740-19 Avenue NW:geo:-113.506732,53.44805
END:VEVENT
BEGIN:VEVENT
DTSTART;TZID=America/Edmonton:20280829T100000
DTEND;TZID=America/Edmonton:20280829T113000
DTSTAMP:20260420T010511
CREATED:20251119T214125Z
LAST-MODIFIED:20260416T195015Z
UID:10005006-1851156000-1851161400@ssucedmonton.com
SUMMARY:Men's Coffee Group
DESCRIPTION:Tuesdays at 10:00 a.m. in the lower level Music Room. Bring your own coffee mug.
URL:https://ssucedmonton.com/event/mens-coffee-group/2028-08-29/
LOCATION:AB
CATEGORIES:Social Group
END:VEVENT
BEGIN:VEVENT
DTSTART;TZID=America/Edmonton:20280831T170000
DTEND;TZID=America/Edmonton:20280831T180000
DTSTAMP:20260420T010511
CREATED:20240714T204433Z
LAST-MODIFIED:20241009T182257Z
UID:10001526-1851354000-1851357600@ssucedmonton.com
SUMMARY:Food Bank Distribution
DESCRIPTION:Pick up depot for registered food bank clients.
URL:https://ssucedmonton.com/event/food-bank-distribution/2028-08-31/
LOCATION:SSUC Edmonton- Spiritual Seekers United in Community\, 10740-19 Avenue NW\, Edmonton\, AB\, T6J 6W9\, Canada
CATEGORIES:Resource Group
ATTACH;FMTTYPE=image/png:https://ssucedmonton.com/wp-content/uploads/2024/07/Untitled-design-6-e1728498041672.png
GEO:53.44805;-113.506732
X-APPLE-STRUCTURED-LOCATION;VALUE=URI;X-ADDRESS=SSUC Edmonton- Spiritual Seekers United in Community 10740-19 Avenue NW Edmonton AB T6J 6W9 Canada;X-APPLE-RADIUS=500;X-TITLE=10740-19 Avenue NW:geo:-113.506732,53.44805
END:VEVENT
BEGIN:VEVENT
DTSTART;TZID=America/Edmonton:20280831T180000
DTEND;TZID=America/Edmonton:20280831T190000
DTSTAMP:20260420T010511
CREATED:20241001T173552Z
LAST-MODIFIED:20241223T233508Z
UID:10002613-1851357600-1851361200@ssucedmonton.com
SUMMARY:Resource Discussion Group
DESCRIPTION:A weekly discussion group\, with a new topic each week. All are welcome. \n\nA weekly time for meaningful conversations.\nA space for ‘resourcing’ ourselves for living our values.\nA time for connecting as community.
URL:https://ssucedmonton.com/event/resource-discussion-group/2028-08-31/
LOCATION:SSUC Edmonton- Spiritual Seekers United in Community\, 10740-19 Avenue NW\, Edmonton\, AB\, T6J 6W9\, Canada
CATEGORIES:Resource Group
ATTACH;FMTTYPE=image/png:https://ssucedmonton.com/wp-content/uploads/2024/10/Resource-Fall2024.png
GEO:53.44805;-113.506732
X-APPLE-STRUCTURED-LOCATION;VALUE=URI;X-ADDRESS=SSUC Edmonton- Spiritual Seekers United in Community 10740-19 Avenue NW Edmonton AB T6J 6W9 Canada;X-APPLE-RADIUS=500;X-TITLE=10740-19 Avenue NW:geo:-113.506732,53.44805
END:VEVENT
BEGIN:VEVENT
DTSTART;TZID=America/Edmonton:20280831T191500
DTEND;TZID=America/Edmonton:20280831T210000
DTSTAMP:20260420T010511
CREATED:20250724T174610Z
LAST-MODIFIED:20251119T213753Z
UID:10004746-1851362100-1851368400@ssucedmonton.com
SUMMARY:Choir Rehearsal
DESCRIPTION:All welcome.
URL:https://ssucedmonton.com/event/choir-rehearsal/2028-08-31/
LOCATION:SSUC Edmonton- Spiritual Seekers United in Community\, 10740-19 Avenue NW\, Edmonton\, AB\, T6J 6W9\, Canada
CATEGORIES:Choir Rehearsal
GEO:53.44805;-113.506732
X-APPLE-STRUCTURED-LOCATION;VALUE=URI;X-ADDRESS=SSUC Edmonton- Spiritual Seekers United in Community 10740-19 Avenue NW Edmonton AB T6J 6W9 Canada;X-APPLE-RADIUS=500;X-TITLE=10740-19 Avenue NW:geo:-113.506732,53.44805
END:VEVENT
BEGIN:VEVENT
DTSTART;TZID=America/Edmonton:20280903T100000
DTEND;TZID=America/Edmonton:20280903T110000
DTSTAMP:20260420T010511
CREATED:20240711T222544Z
LAST-MODIFIED:20260327T205223Z
UID:10000220-1851588000-1851591600@ssucedmonton.com
SUMMARY:Spiritual Gathering (In-Person & Online)
DESCRIPTION:Join us for a Sunday morning of music\, community\, spiritual reflection\, and strengthening our commitment to live fully and love deeply in relation. As an affirming community\, we seek to explore and celebrate our spirituality together as people of every age\, gender\, race\, sexual orientation\, gender identity\, mental or physical ability\, marital status\, economic or cultural background.
URL:https://ssucedmonton.com/event/spiritual-gathering-in-person-online/2028-09-03/
LOCATION:SSUC Edmonton- Spiritual Seekers United in Community\, 10740-19 Avenue NW\, Edmonton\, AB\, T6J 6W9\, Canada
CATEGORIES:Affirming Event,Community Event,Hybrid Event
ATTACH;FMTTYPE=image/png:https://ssucedmonton.com/wp-content/uploads/2024/07/rhythm-2-1.png
GEO:53.44805;-113.506732
X-APPLE-STRUCTURED-LOCATION;VALUE=URI;X-ADDRESS=SSUC Edmonton- Spiritual Seekers United in Community 10740-19 Avenue NW Edmonton AB T6J 6W9 Canada;X-APPLE-RADIUS=500;X-TITLE=10740-19 Avenue NW:geo:-113.506732,53.44805
END:VEVENT
BEGIN:VEVENT
DTSTART;TZID=America/Edmonton:20280903T111500
DTEND;TZID=America/Edmonton:20280903T121500
DTSTAMP:20260420T010511
CREATED:20240924T184434Z
LAST-MODIFIED:20260220T215235Z
UID:10000742-1851592500-1851596100@ssucedmonton.com
SUMMARY:Post-Gathering Reflections
DESCRIPTION:Every week at about 11:15 MDT\, join in a casual zoom conversation to connect and discuss the morning’s gathering in ways it resonates and challenges.
URL:https://ssucedmonton.com/event/post-gathering-reflections-2/2028-09-03/
LOCATION:SSUC Edmonton- Spiritual Seekers United in Community\, 10740-19 Avenue NW\, Edmonton\, AB\, T6J 6W9\, Canada
CATEGORIES:Seminar/Workshop
ATTACH;FMTTYPE=image/png:https://ssucedmonton.com/wp-content/uploads/2024/07/Untitled-design-3-e1724004586746.png
GEO:53.44805;-113.506732
X-APPLE-STRUCTURED-LOCATION;VALUE=URI;X-ADDRESS=SSUC Edmonton- Spiritual Seekers United in Community 10740-19 Avenue NW Edmonton AB T6J 6W9 Canada;X-APPLE-RADIUS=500;X-TITLE=10740-19 Avenue NW:geo:-113.506732,53.44805
END:VEVENT
BEGIN:VEVENT
DTSTART;TZID=America/Edmonton:20280905T100000
DTEND;TZID=America/Edmonton:20280905T113000
DTSTAMP:20260420T010511
CREATED:20251119T214125Z
LAST-MODIFIED:20260416T195015Z
UID:10005007-1851760800-1851766200@ssucedmonton.com
SUMMARY:Men's Coffee Group
DESCRIPTION:Tuesdays at 10:00 a.m. in the lower level Music Room. Bring your own coffee mug.
URL:https://ssucedmonton.com/event/mens-coffee-group/2028-09-05/
LOCATION:AB
CATEGORIES:Social Group
END:VEVENT
BEGIN:VEVENT
DTSTART;TZID=America/Edmonton:20280905T190000
DTEND;TZID=America/Edmonton:20280905T203000
DTSTAMP:20260420T010511
CREATED:20241008T193343Z
LAST-MODIFIED:20241008T193431Z
UID:10002782-1851793200-1851798600@ssucedmonton.com
SUMMARY:Moving Forward to Reconciliation Meeting via Zoom
DESCRIPTION:
URL:https://ssucedmonton.com/event/moving-forward-to-reconciliation-meeting-via-zoom/2028-09-05/
LOCATION:SSUC Edmonton- Spiritual Seekers United in Community\, 10740-19 Avenue NW\, Edmonton\, AB\, T6J 6W9\, Canada
CATEGORIES:Board or Committee Meeting
ATTACH;FMTTYPE=image/png:https://ssucedmonton.com/wp-content/uploads/2024/08/meeting-icon-website-e1727282908277.png
GEO:53.44805;-113.506732
X-APPLE-STRUCTURED-LOCATION;VALUE=URI;X-ADDRESS=SSUC Edmonton- Spiritual Seekers United in Community 10740-19 Avenue NW Edmonton AB T6J 6W9 Canada;X-APPLE-RADIUS=500;X-TITLE=10740-19 Avenue NW:geo:-113.506732,53.44805
END:VEVENT
BEGIN:VEVENT
DTSTART;TZID=America/Edmonton:20280907T170000
DTEND;TZID=America/Edmonton:20280907T180000
DTSTAMP:20260420T010511
CREATED:20240714T204433Z
LAST-MODIFIED:20241009T182257Z
UID:10001527-1851958800-1851962400@ssucedmonton.com
SUMMARY:Food Bank Distribution
DESCRIPTION:Pick up depot for registered food bank clients.
URL:https://ssucedmonton.com/event/food-bank-distribution/2028-09-07/
LOCATION:SSUC Edmonton- Spiritual Seekers United in Community\, 10740-19 Avenue NW\, Edmonton\, AB\, T6J 6W9\, Canada
CATEGORIES:Resource Group
ATTACH;FMTTYPE=image/png:https://ssucedmonton.com/wp-content/uploads/2024/07/Untitled-design-6-e1728498041672.png
GEO:53.44805;-113.506732
X-APPLE-STRUCTURED-LOCATION;VALUE=URI;X-ADDRESS=SSUC Edmonton- Spiritual Seekers United in Community 10740-19 Avenue NW Edmonton AB T6J 6W9 Canada;X-APPLE-RADIUS=500;X-TITLE=10740-19 Avenue NW:geo:-113.506732,53.44805
END:VEVENT
BEGIN:VEVENT
DTSTART;TZID=America/Edmonton:20280907T180000
DTEND;TZID=America/Edmonton:20280907T190000
DTSTAMP:20260420T010511
CREATED:20241001T173552Z
LAST-MODIFIED:20241223T233508Z
UID:10002614-1851962400-1851966000@ssucedmonton.com
SUMMARY:Resource Discussion Group
DESCRIPTION:A weekly discussion group\, with a new topic each week. All are welcome. \n\nA weekly time for meaningful conversations.\nA space for ‘resourcing’ ourselves for living our values.\nA time for connecting as community.
URL:https://ssucedmonton.com/event/resource-discussion-group/2028-09-07/
LOCATION:SSUC Edmonton- Spiritual Seekers United in Community\, 10740-19 Avenue NW\, Edmonton\, AB\, T6J 6W9\, Canada
CATEGORIES:Resource Group
ATTACH;FMTTYPE=image/png:https://ssucedmonton.com/wp-content/uploads/2024/10/Resource-Fall2024.png
GEO:53.44805;-113.506732
X-APPLE-STRUCTURED-LOCATION;VALUE=URI;X-ADDRESS=SSUC Edmonton- Spiritual Seekers United in Community 10740-19 Avenue NW Edmonton AB T6J 6W9 Canada;X-APPLE-RADIUS=500;X-TITLE=10740-19 Avenue NW:geo:-113.506732,53.44805
END:VEVENT
BEGIN:VEVENT
DTSTART;TZID=America/Edmonton:20280907T191500
DTEND;TZID=America/Edmonton:20280907T210000
DTSTAMP:20260420T010511
CREATED:20250724T174610Z
LAST-MODIFIED:20251119T213753Z
UID:10004747-1851966900-1851973200@ssucedmonton.com
SUMMARY:Choir Rehearsal
DESCRIPTION:All welcome.
URL:https://ssucedmonton.com/event/choir-rehearsal/2028-09-07/
LOCATION:SSUC Edmonton- Spiritual Seekers United in Community\, 10740-19 Avenue NW\, Edmonton\, AB\, T6J 6W9\, Canada
CATEGORIES:Choir Rehearsal
GEO:53.44805;-113.506732
X-APPLE-STRUCTURED-LOCATION;VALUE=URI;X-ADDRESS=SSUC Edmonton- Spiritual Seekers United in Community 10740-19 Avenue NW Edmonton AB T6J 6W9 Canada;X-APPLE-RADIUS=500;X-TITLE=10740-19 Avenue NW:geo:-113.506732,53.44805
END:VEVENT
BEGIN:VEVENT
DTSTART;TZID=America/Edmonton:20280910T100000
DTEND;TZID=America/Edmonton:20280910T110000
DTSTAMP:20260420T010511
CREATED:20240711T222544Z
LAST-MODIFIED:20260327T205223Z
UID:10000221-1852192800-1852196400@ssucedmonton.com
SUMMARY:Spiritual Gathering (In-Person & Online)
DESCRIPTION:Join us for a Sunday morning of music\, community\, spiritual reflection\, and strengthening our commitment to live fully and love deeply in relation. As an affirming community\, we seek to explore and celebrate our spirituality together as people of every age\, gender\, race\, sexual orientation\, gender identity\, mental or physical ability\, marital status\, economic or cultural background.
URL:https://ssucedmonton.com/event/spiritual-gathering-in-person-online/2028-09-10/
LOCATION:SSUC Edmonton- Spiritual Seekers United in Community\, 10740-19 Avenue NW\, Edmonton\, AB\, T6J 6W9\, Canada
CATEGORIES:Affirming Event,Community Event,Hybrid Event
ATTACH;FMTTYPE=image/png:https://ssucedmonton.com/wp-content/uploads/2024/07/rhythm-2-1.png
GEO:53.44805;-113.506732
X-APPLE-STRUCTURED-LOCATION;VALUE=URI;X-ADDRESS=SSUC Edmonton- Spiritual Seekers United in Community 10740-19 Avenue NW Edmonton AB T6J 6W9 Canada;X-APPLE-RADIUS=500;X-TITLE=10740-19 Avenue NW:geo:-113.506732,53.44805
END:VEVENT
BEGIN:VEVENT
DTSTART;TZID=America/Edmonton:20280910T111500
DTEND;TZID=America/Edmonton:20280910T121500
DTSTAMP:20260420T010511
CREATED:20240924T184434Z
LAST-MODIFIED:20260220T215235Z
UID:10000743-1852197300-1852200900@ssucedmonton.com
SUMMARY:Post-Gathering Reflections
DESCRIPTION:Every week at about 11:15 MDT\, join in a casual zoom conversation to connect and discuss the morning’s gathering in ways it resonates and challenges.
URL:https://ssucedmonton.com/event/post-gathering-reflections-2/2028-09-10/
LOCATION:SSUC Edmonton- Spiritual Seekers United in Community\, 10740-19 Avenue NW\, Edmonton\, AB\, T6J 6W9\, Canada
CATEGORIES:Seminar/Workshop
ATTACH;FMTTYPE=image/png:https://ssucedmonton.com/wp-content/uploads/2024/07/Untitled-design-3-e1724004586746.png
GEO:53.44805;-113.506732
X-APPLE-STRUCTURED-LOCATION;VALUE=URI;X-ADDRESS=SSUC Edmonton- Spiritual Seekers United in Community 10740-19 Avenue NW Edmonton AB T6J 6W9 Canada;X-APPLE-RADIUS=500;X-TITLE=10740-19 Avenue NW:geo:-113.506732,53.44805
END:VEVENT
BEGIN:VEVENT
DTSTART;TZID=America/Edmonton:20280912T100000
DTEND;TZID=America/Edmonton:20280912T113000
DTSTAMP:20260420T010511
CREATED:20251119T214125Z
LAST-MODIFIED:20260416T195015Z
UID:10005008-1852365600-1852371000@ssucedmonton.com
SUMMARY:Men's Coffee Group
DESCRIPTION:Tuesdays at 10:00 a.m. in the lower level Music Room. Bring your own coffee mug.
URL:https://ssucedmonton.com/event/mens-coffee-group/2028-09-12/
LOCATION:AB
CATEGORIES:Social Group
END:VEVENT
BEGIN:VEVENT
DTSTART;TZID=America/Edmonton:20280914T130000
DTEND;TZID=America/Edmonton:20280914T150000
DTSTAMP:20260420T010511
CREATED:20241008T192007Z
LAST-MODIFIED:20241008T193519Z
UID:10002723-1852549200-1852556400@ssucedmonton.com
SUMMARY:Congregational Care Committee Meeting
DESCRIPTION:
URL:https://ssucedmonton.com/event/congregational-care-committee-meeting/2028-09-14/
LOCATION:SSUC Edmonton- Spiritual Seekers United in Community\, 10740-19 Avenue NW\, Edmonton\, AB\, T6J 6W9\, Canada
CATEGORIES:Congregational Care,Meeting
ATTACH;FMTTYPE=image/png:https://ssucedmonton.com/wp-content/uploads/2024/08/meeting-icon-website-e1727282908277.png
GEO:53.44805;-113.506732
X-APPLE-STRUCTURED-LOCATION;VALUE=URI;X-ADDRESS=SSUC Edmonton- Spiritual Seekers United in Community 10740-19 Avenue NW Edmonton AB T6J 6W9 Canada;X-APPLE-RADIUS=500;X-TITLE=10740-19 Avenue NW:geo:-113.506732,53.44805
END:VEVENT
BEGIN:VEVENT
DTSTART;TZID=America/Edmonton:20280914T170000
DTEND;TZID=America/Edmonton:20280914T180000
DTSTAMP:20260420T010511
CREATED:20240714T204433Z
LAST-MODIFIED:20241009T182257Z
UID:10001528-1852563600-1852567200@ssucedmonton.com
SUMMARY:Food Bank Distribution
DESCRIPTION:Pick up depot for registered food bank clients.
URL:https://ssucedmonton.com/event/food-bank-distribution/2028-09-14/
LOCATION:SSUC Edmonton- Spiritual Seekers United in Community\, 10740-19 Avenue NW\, Edmonton\, AB\, T6J 6W9\, Canada
CATEGORIES:Resource Group
ATTACH;FMTTYPE=image/png:https://ssucedmonton.com/wp-content/uploads/2024/07/Untitled-design-6-e1728498041672.png
GEO:53.44805;-113.506732
X-APPLE-STRUCTURED-LOCATION;VALUE=URI;X-ADDRESS=SSUC Edmonton- Spiritual Seekers United in Community 10740-19 Avenue NW Edmonton AB T6J 6W9 Canada;X-APPLE-RADIUS=500;X-TITLE=10740-19 Avenue NW:geo:-113.506732,53.44805
END:VEVENT
BEGIN:VEVENT
DTSTART;TZID=America/Edmonton:20280914T180000
DTEND;TZID=America/Edmonton:20280914T190000
DTSTAMP:20260420T010511
CREATED:20241001T173552Z
LAST-MODIFIED:20241223T233508Z
UID:10002615-1852567200-1852570800@ssucedmonton.com
SUMMARY:Resource Discussion Group
DESCRIPTION:A weekly discussion group\, with a new topic each week. All are welcome. \n\nA weekly time for meaningful conversations.\nA space for ‘resourcing’ ourselves for living our values.\nA time for connecting as community.
URL:https://ssucedmonton.com/event/resource-discussion-group/2028-09-14/
LOCATION:SSUC Edmonton- Spiritual Seekers United in Community\, 10740-19 Avenue NW\, Edmonton\, AB\, T6J 6W9\, Canada
CATEGORIES:Resource Group
ATTACH;FMTTYPE=image/png:https://ssucedmonton.com/wp-content/uploads/2024/10/Resource-Fall2024.png
GEO:53.44805;-113.506732
X-APPLE-STRUCTURED-LOCATION;VALUE=URI;X-ADDRESS=SSUC Edmonton- Spiritual Seekers United in Community 10740-19 Avenue NW Edmonton AB T6J 6W9 Canada;X-APPLE-RADIUS=500;X-TITLE=10740-19 Avenue NW:geo:-113.506732,53.44805
END:VEVENT
BEGIN:VEVENT
DTSTART;TZID=America/Edmonton:20280914T191500
DTEND;TZID=America/Edmonton:20280914T210000
DTSTAMP:20260420T010511
CREATED:20250724T174610Z
LAST-MODIFIED:20251119T213753Z
UID:10004748-1852571700-1852578000@ssucedmonton.com
SUMMARY:Choir Rehearsal
DESCRIPTION:All welcome.
URL:https://ssucedmonton.com/event/choir-rehearsal/2028-09-14/
LOCATION:SSUC Edmonton- Spiritual Seekers United in Community\, 10740-19 Avenue NW\, Edmonton\, AB\, T6J 6W9\, Canada
CATEGORIES:Choir Rehearsal
GEO:53.44805;-113.506732
X-APPLE-STRUCTURED-LOCATION;VALUE=URI;X-ADDRESS=SSUC Edmonton- Spiritual Seekers United in Community 10740-19 Avenue NW Edmonton AB T6J 6W9 Canada;X-APPLE-RADIUS=500;X-TITLE=10740-19 Avenue NW:geo:-113.506732,53.44805
END:VEVENT
BEGIN:VEVENT
DTSTART;TZID=America/Edmonton:20280917T100000
DTEND;TZID=America/Edmonton:20280917T110000
DTSTAMP:20260420T010511
CREATED:20240711T222544Z
LAST-MODIFIED:20260327T205223Z
UID:10000222-1852797600-1852801200@ssucedmonton.com
SUMMARY:Spiritual Gathering (In-Person & Online)
DESCRIPTION:Join us for a Sunday morning of music\, community\, spiritual reflection\, and strengthening our commitment to live fully and love deeply in relation. As an affirming community\, we seek to explore and celebrate our spirituality together as people of every age\, gender\, race\, sexual orientation\, gender identity\, mental or physical ability\, marital status\, economic or cultural background.
URL:https://ssucedmonton.com/event/spiritual-gathering-in-person-online/2028-09-17/
LOCATION:SSUC Edmonton- Spiritual Seekers United in Community\, 10740-19 Avenue NW\, Edmonton\, AB\, T6J 6W9\, Canada
CATEGORIES:Affirming Event,Community Event,Hybrid Event
ATTACH;FMTTYPE=image/png:https://ssucedmonton.com/wp-content/uploads/2024/07/rhythm-2-1.png
GEO:53.44805;-113.506732
X-APPLE-STRUCTURED-LOCATION;VALUE=URI;X-ADDRESS=SSUC Edmonton- Spiritual Seekers United in Community 10740-19 Avenue NW Edmonton AB T6J 6W9 Canada;X-APPLE-RADIUS=500;X-TITLE=10740-19 Avenue NW:geo:-113.506732,53.44805
END:VEVENT
BEGIN:VEVENT
DTSTART;TZID=America/Edmonton:20280917T111500
DTEND;TZID=America/Edmonton:20280917T121500
DTSTAMP:20260420T010511
CREATED:20240924T184434Z
LAST-MODIFIED:20260220T215235Z
UID:10000744-1852802100-1852805700@ssucedmonton.com
SUMMARY:Post-Gathering Reflections
DESCRIPTION:Every week at about 11:15 MDT\, join in a casual zoom conversation to connect and discuss the morning’s gathering in ways it resonates and challenges.
URL:https://ssucedmonton.com/event/post-gathering-reflections-2/2028-09-17/
LOCATION:SSUC Edmonton- Spiritual Seekers United in Community\, 10740-19 Avenue NW\, Edmonton\, AB\, T6J 6W9\, Canada
CATEGORIES:Seminar/Workshop
ATTACH;FMTTYPE=image/png:https://ssucedmonton.com/wp-content/uploads/2024/07/Untitled-design-3-e1724004586746.png
GEO:53.44805;-113.506732
X-APPLE-STRUCTURED-LOCATION;VALUE=URI;X-ADDRESS=SSUC Edmonton- Spiritual Seekers United in Community 10740-19 Avenue NW Edmonton AB T6J 6W9 Canada;X-APPLE-RADIUS=500;X-TITLE=10740-19 Avenue NW:geo:-113.506732,53.44805
END:VEVENT
BEGIN:VEVENT
DTSTART;TZID=America/Edmonton:20280919T100000
DTEND;TZID=America/Edmonton:20280919T113000
DTSTAMP:20260420T010511
CREATED:20251119T214125Z
LAST-MODIFIED:20260416T195015Z
UID:10005009-1852970400-1852975800@ssucedmonton.com
SUMMARY:Men's Coffee Group
DESCRIPTION:Tuesdays at 10:00 a.m. in the lower level Music Room. Bring your own coffee mug.
URL:https://ssucedmonton.com/event/mens-coffee-group/2028-09-19/
LOCATION:AB
CATEGORIES:Social Group
END:VEVENT
BEGIN:VEVENT
DTSTART;TZID=America/Edmonton:20280919T183000
DTEND;TZID=America/Edmonton:20280919T203000
DTSTAMP:20260420T010511
CREATED:20250410T184038Z
LAST-MODIFIED:20250410T184038Z
UID:10003741-1853001000-1853008200@ssucedmonton.com
SUMMARY:SSUC Board Meeting
DESCRIPTION:
URL:https://ssucedmonton.com/event/ssuc-board-meeting-2/2028-09-19/
LOCATION:SSUC Edmonton- Spiritual Seekers United in Community\, 10740-19 Avenue NW\, Edmonton\, AB\, T6J 6W9\, Canada
CATEGORIES:Board or Committee Meeting
GEO:53.44805;-113.506732
X-APPLE-STRUCTURED-LOCATION;VALUE=URI;X-ADDRESS=SSUC Edmonton- Spiritual Seekers United in Community 10740-19 Avenue NW Edmonton AB T6J 6W9 Canada;X-APPLE-RADIUS=500;X-TITLE=10740-19 Avenue NW:geo:-113.506732,53.44805
END:VEVENT
BEGIN:VEVENT
DTSTART;TZID=America/Edmonton:20280921T170000
DTEND;TZID=America/Edmonton:20280921T180000
DTSTAMP:20260420T010511
CREATED:20240714T204433Z
LAST-MODIFIED:20241009T182257Z
UID:10001529-1853168400-1853172000@ssucedmonton.com
SUMMARY:Food Bank Distribution
DESCRIPTION:Pick up depot for registered food bank clients.
URL:https://ssucedmonton.com/event/food-bank-distribution/2028-09-21/
LOCATION:SSUC Edmonton- Spiritual Seekers United in Community\, 10740-19 Avenue NW\, Edmonton\, AB\, T6J 6W9\, Canada
CATEGORIES:Resource Group
ATTACH;FMTTYPE=image/png:https://ssucedmonton.com/wp-content/uploads/2024/07/Untitled-design-6-e1728498041672.png
GEO:53.44805;-113.506732
X-APPLE-STRUCTURED-LOCATION;VALUE=URI;X-ADDRESS=SSUC Edmonton- Spiritual Seekers United in Community 10740-19 Avenue NW Edmonton AB T6J 6W9 Canada;X-APPLE-RADIUS=500;X-TITLE=10740-19 Avenue NW:geo:-113.506732,53.44805
END:VEVENT
END:VCALENDAR