BEGIN:VCALENDAR
VERSION:2.0
PRODID:-//Spiritual Seekers United in Community - ECPv6.15.20//NONSGML v1.0//EN
CALSCALE:GREGORIAN
METHOD:PUBLISH
X-ORIGINAL-URL:https://ssucedmonton.com
X-WR-CALDESC:Events for Spiritual Seekers United in Community
REFRESH-INTERVAL;VALUE=DURATION:PT1H
X-Robots-Tag:noindex
X-PUBLISHED-TTL:PT1H
BEGIN:VTIMEZONE
TZID:America/Edmonton
BEGIN:DAYLIGHT
TZOFFSETFROM:-0700
TZOFFSETTO:-0600
TZNAME:MDT
DTSTART:20280312T090000
END:DAYLIGHT
BEGIN:STANDARD
TZOFFSETFROM:-0600
TZOFFSETTO:-0700
TZNAME:MST
DTSTART:20281105T080000
END:STANDARD
BEGIN:DAYLIGHT
TZOFFSETFROM:-0700
TZOFFSETTO:-0600
TZNAME:MDT
DTSTART:20290311T090000
END:DAYLIGHT
BEGIN:STANDARD
TZOFFSETFROM:-0600
TZOFFSETTO:-0700
TZNAME:MST
DTSTART:20291104T080000
END:STANDARD
BEGIN:DAYLIGHT
TZOFFSETFROM:-0700
TZOFFSETTO:-0600
TZNAME:MDT
DTSTART:20300310T090000
END:DAYLIGHT
BEGIN:STANDARD
TZOFFSETFROM:-0600
TZOFFSETTO:-0700
TZNAME:MST
DTSTART:20301103T080000
END:STANDARD
END:VTIMEZONE
BEGIN:VEVENT
DTSTART;TZID=America/Edmonton:20291111T100000
DTEND;TZID=America/Edmonton:20291111T110000
DTSTAMP:20260425T201919
CREATED:20240711T222544Z
LAST-MODIFIED:20260327T205223Z
UID:10003176-1889085600-1889089200@ssucedmonton.com
SUMMARY:Spiritual Gathering (In-Person & Online)
DESCRIPTION:Join us for a Sunday morning of music\, community\, spiritual reflection\, and strengthening our commitment to live fully and love deeply in relation. As an affirming community\, we seek to explore and celebrate our spirituality together as people of every age\, gender\, race\, sexual orientation\, gender identity\, mental or physical ability\, marital status\, economic or cultural background.
URL:https://ssucedmonton.com/event/spiritual-gathering-in-person-online/2029-11-11/
LOCATION:SSUC Edmonton- Spiritual Seekers United in Community\, 10740-19 Avenue NW\, Edmonton\, AB\, T6J 6W9\, Canada
CATEGORIES:Affirming Event,Community Event,Hybrid Event
ATTACH;FMTTYPE=image/png:https://ssucedmonton.com/wp-content/uploads/2024/07/rhythm-2-1.png
GEO:53.44805;-113.506732
X-APPLE-STRUCTURED-LOCATION;VALUE=URI;X-ADDRESS=SSUC Edmonton- Spiritual Seekers United in Community 10740-19 Avenue NW Edmonton AB T6J 6W9 Canada;X-APPLE-RADIUS=500;X-TITLE=10740-19 Avenue NW:geo:-113.506732,53.44805
END:VEVENT
BEGIN:VEVENT
DTSTART;TZID=America/Edmonton:20291111T111500
DTEND;TZID=America/Edmonton:20291111T121500
DTSTAMP:20260425T201919
CREATED:20240924T184434Z
LAST-MODIFIED:20260220T215235Z
UID:10003444-1889090100-1889093700@ssucedmonton.com
SUMMARY:Post-Gathering Reflections
DESCRIPTION:Every week at about 11:15 MDT\, join in a casual zoom conversation to connect and discuss the morning’s gathering in ways it resonates and challenges.
URL:https://ssucedmonton.com/event/post-gathering-reflections-2/2029-11-11/
LOCATION:SSUC Edmonton- Spiritual Seekers United in Community\, 10740-19 Avenue NW\, Edmonton\, AB\, T6J 6W9\, Canada
CATEGORIES:Seminar/Workshop
ATTACH;FMTTYPE=image/png:https://ssucedmonton.com/wp-content/uploads/2024/07/Untitled-design-3-e1724004586746.png
GEO:53.44805;-113.506732
X-APPLE-STRUCTURED-LOCATION;VALUE=URI;X-ADDRESS=SSUC Edmonton- Spiritual Seekers United in Community 10740-19 Avenue NW Edmonton AB T6J 6W9 Canada;X-APPLE-RADIUS=500;X-TITLE=10740-19 Avenue NW:geo:-113.506732,53.44805
END:VEVENT
BEGIN:VEVENT
DTSTART;TZID=America/Edmonton:20291113T100000
DTEND;TZID=America/Edmonton:20291113T113000
DTSTAMP:20260425T201919
CREATED:20251119T214125Z
LAST-MODIFIED:20260416T195015Z
UID:10005069-1889258400-1889263800@ssucedmonton.com
SUMMARY:Men's Coffee Group
DESCRIPTION:Tuesdays at 10:00 a.m. in the lower level Music Room. Bring your own coffee mug.
URL:https://ssucedmonton.com/event/mens-coffee-group/2029-11-13/
LOCATION:AB
CATEGORIES:Social Group
END:VEVENT
BEGIN:VEVENT
DTSTART;TZID=America/Edmonton:20291115T170000
DTEND;TZID=America/Edmonton:20291115T180000
DTSTAMP:20260425T201919
CREATED:20240714T204433Z
LAST-MODIFIED:20241009T182257Z
UID:10003367-1889456400-1889460000@ssucedmonton.com
SUMMARY:Food Bank Distribution
DESCRIPTION:Pick up depot for registered food bank clients.
URL:https://ssucedmonton.com/event/food-bank-distribution/2029-11-15/
LOCATION:SSUC Edmonton- Spiritual Seekers United in Community\, 10740-19 Avenue NW\, Edmonton\, AB\, T6J 6W9\, Canada
CATEGORIES:Resource Group
ATTACH;FMTTYPE=image/png:https://ssucedmonton.com/wp-content/uploads/2024/07/Untitled-design-6-e1728498041672.png
GEO:53.44805;-113.506732
X-APPLE-STRUCTURED-LOCATION;VALUE=URI;X-ADDRESS=SSUC Edmonton- Spiritual Seekers United in Community 10740-19 Avenue NW Edmonton AB T6J 6W9 Canada;X-APPLE-RADIUS=500;X-TITLE=10740-19 Avenue NW:geo:-113.506732,53.44805
END:VEVENT
BEGIN:VEVENT
DTSTART;TZID=America/Edmonton:20291115T180000
DTEND;TZID=America/Edmonton:20291115T190000
DTSTAMP:20260425T201919
CREATED:20241001T173552Z
LAST-MODIFIED:20241223T233508Z
UID:10003427-1889460000-1889463600@ssucedmonton.com
SUMMARY:Resource Discussion Group
DESCRIPTION:A weekly discussion group\, with a new topic each week. All are welcome. \n\nA weekly time for meaningful conversations.\nA space for ‘resourcing’ ourselves for living our values.\nA time for connecting as community.
URL:https://ssucedmonton.com/event/resource-discussion-group/2029-11-15/
LOCATION:SSUC Edmonton- Spiritual Seekers United in Community\, 10740-19 Avenue NW\, Edmonton\, AB\, T6J 6W9\, Canada
CATEGORIES:Resource Group
ATTACH;FMTTYPE=image/png:https://ssucedmonton.com/wp-content/uploads/2024/10/Resource-Fall2024.png
GEO:53.44805;-113.506732
X-APPLE-STRUCTURED-LOCATION;VALUE=URI;X-ADDRESS=SSUC Edmonton- Spiritual Seekers United in Community 10740-19 Avenue NW Edmonton AB T6J 6W9 Canada;X-APPLE-RADIUS=500;X-TITLE=10740-19 Avenue NW:geo:-113.506732,53.44805
END:VEVENT
BEGIN:VEVENT
DTSTART;TZID=America/Edmonton:20291115T191500
DTEND;TZID=America/Edmonton:20291115T210000
DTSTAMP:20260425T201919
CREATED:20250724T174610Z
LAST-MODIFIED:20251119T213753Z
UID:10004809-1889464500-1889470800@ssucedmonton.com
SUMMARY:Choir Rehearsal
DESCRIPTION:All welcome.
URL:https://ssucedmonton.com/event/choir-rehearsal/2029-11-15/
LOCATION:SSUC Edmonton- Spiritual Seekers United in Community\, 10740-19 Avenue NW\, Edmonton\, AB\, T6J 6W9\, Canada
CATEGORIES:Choir Rehearsal
GEO:53.44805;-113.506732
X-APPLE-STRUCTURED-LOCATION;VALUE=URI;X-ADDRESS=SSUC Edmonton- Spiritual Seekers United in Community 10740-19 Avenue NW Edmonton AB T6J 6W9 Canada;X-APPLE-RADIUS=500;X-TITLE=10740-19 Avenue NW:geo:-113.506732,53.44805
END:VEVENT
BEGIN:VEVENT
DTSTART;TZID=America/Edmonton:20291118T100000
DTEND;TZID=America/Edmonton:20291118T110000
DTSTAMP:20260425T201919
CREATED:20240711T222544Z
LAST-MODIFIED:20260327T205223Z
UID:10003369-1889690400-1889694000@ssucedmonton.com
SUMMARY:Spiritual Gathering (In-Person & Online)
DESCRIPTION:Join us for a Sunday morning of music\, community\, spiritual reflection\, and strengthening our commitment to live fully and love deeply in relation. As an affirming community\, we seek to explore and celebrate our spirituality together as people of every age\, gender\, race\, sexual orientation\, gender identity\, mental or physical ability\, marital status\, economic or cultural background.
URL:https://ssucedmonton.com/event/spiritual-gathering-in-person-online/2029-11-18/
LOCATION:SSUC Edmonton- Spiritual Seekers United in Community\, 10740-19 Avenue NW\, Edmonton\, AB\, T6J 6W9\, Canada
CATEGORIES:Affirming Event,Community Event,Hybrid Event
ATTACH;FMTTYPE=image/png:https://ssucedmonton.com/wp-content/uploads/2024/07/rhythm-2-1.png
GEO:53.44805;-113.506732
X-APPLE-STRUCTURED-LOCATION;VALUE=URI;X-ADDRESS=SSUC Edmonton- Spiritual Seekers United in Community 10740-19 Avenue NW Edmonton AB T6J 6W9 Canada;X-APPLE-RADIUS=500;X-TITLE=10740-19 Avenue NW:geo:-113.506732,53.44805
END:VEVENT
BEGIN:VEVENT
DTSTART;TZID=America/Edmonton:20291118T111500
DTEND;TZID=America/Edmonton:20291118T121500
DTSTAMP:20260425T201919
CREATED:20240924T184434Z
LAST-MODIFIED:20260220T215235Z
UID:10003445-1889694900-1889698500@ssucedmonton.com
SUMMARY:Post-Gathering Reflections
DESCRIPTION:Every week at about 11:15 MDT\, join in a casual zoom conversation to connect and discuss the morning’s gathering in ways it resonates and challenges.
URL:https://ssucedmonton.com/event/post-gathering-reflections-2/2029-11-18/
LOCATION:SSUC Edmonton- Spiritual Seekers United in Community\, 10740-19 Avenue NW\, Edmonton\, AB\, T6J 6W9\, Canada
CATEGORIES:Seminar/Workshop
ATTACH;FMTTYPE=image/png:https://ssucedmonton.com/wp-content/uploads/2024/07/Untitled-design-3-e1724004586746.png
GEO:53.44805;-113.506732
X-APPLE-STRUCTURED-LOCATION;VALUE=URI;X-ADDRESS=SSUC Edmonton- Spiritual Seekers United in Community 10740-19 Avenue NW Edmonton AB T6J 6W9 Canada;X-APPLE-RADIUS=500;X-TITLE=10740-19 Avenue NW:geo:-113.506732,53.44805
END:VEVENT
BEGIN:VEVENT
DTSTART;TZID=America/Edmonton:20291120T100000
DTEND;TZID=America/Edmonton:20291120T113000
DTSTAMP:20260425T201919
CREATED:20251119T214125Z
LAST-MODIFIED:20260416T195015Z
UID:10005070-1889863200-1889868600@ssucedmonton.com
SUMMARY:Men's Coffee Group
DESCRIPTION:Tuesdays at 10:00 a.m. in the lower level Music Room. Bring your own coffee mug.
URL:https://ssucedmonton.com/event/mens-coffee-group/2029-11-20/
LOCATION:AB
CATEGORIES:Social Group
END:VEVENT
BEGIN:VEVENT
DTSTART;TZID=America/Edmonton:20291120T183000
DTEND;TZID=America/Edmonton:20291120T203000
DTSTAMP:20260425T201919
CREATED:20250410T184038Z
LAST-MODIFIED:20250410T184038Z
UID:10003755-1889893800-1889901000@ssucedmonton.com
SUMMARY:SSUC Board Meeting
DESCRIPTION:
URL:https://ssucedmonton.com/event/ssuc-board-meeting-2/2029-11-20/
LOCATION:SSUC Edmonton- Spiritual Seekers United in Community\, 10740-19 Avenue NW\, Edmonton\, AB\, T6J 6W9\, Canada
CATEGORIES:Board or Committee Meeting
GEO:53.44805;-113.506732
X-APPLE-STRUCTURED-LOCATION;VALUE=URI;X-ADDRESS=SSUC Edmonton- Spiritual Seekers United in Community 10740-19 Avenue NW Edmonton AB T6J 6W9 Canada;X-APPLE-RADIUS=500;X-TITLE=10740-19 Avenue NW:geo:-113.506732,53.44805
END:VEVENT
BEGIN:VEVENT
DTSTART;TZID=America/Edmonton:20291122T170000
DTEND;TZID=America/Edmonton:20291122T180000
DTSTAMP:20260425T201919
CREATED:20240714T204433Z
LAST-MODIFIED:20241009T182257Z
UID:10003372-1890061200-1890064800@ssucedmonton.com
SUMMARY:Food Bank Distribution
DESCRIPTION:Pick up depot for registered food bank clients.
URL:https://ssucedmonton.com/event/food-bank-distribution/2029-11-22/
LOCATION:SSUC Edmonton- Spiritual Seekers United in Community\, 10740-19 Avenue NW\, Edmonton\, AB\, T6J 6W9\, Canada
CATEGORIES:Resource Group
ATTACH;FMTTYPE=image/png:https://ssucedmonton.com/wp-content/uploads/2024/07/Untitled-design-6-e1728498041672.png
GEO:53.44805;-113.506732
X-APPLE-STRUCTURED-LOCATION;VALUE=URI;X-ADDRESS=SSUC Edmonton- Spiritual Seekers United in Community 10740-19 Avenue NW Edmonton AB T6J 6W9 Canada;X-APPLE-RADIUS=500;X-TITLE=10740-19 Avenue NW:geo:-113.506732,53.44805
END:VEVENT
BEGIN:VEVENT
DTSTART;TZID=America/Edmonton:20291122T180000
DTEND;TZID=America/Edmonton:20291122T190000
DTSTAMP:20260425T201919
CREATED:20241001T173552Z
LAST-MODIFIED:20241223T233508Z
UID:10003428-1890064800-1890068400@ssucedmonton.com
SUMMARY:Resource Discussion Group
DESCRIPTION:A weekly discussion group\, with a new topic each week. All are welcome. \n\nA weekly time for meaningful conversations.\nA space for ‘resourcing’ ourselves for living our values.\nA time for connecting as community.
URL:https://ssucedmonton.com/event/resource-discussion-group/2029-11-22/
LOCATION:SSUC Edmonton- Spiritual Seekers United in Community\, 10740-19 Avenue NW\, Edmonton\, AB\, T6J 6W9\, Canada
CATEGORIES:Resource Group
ATTACH;FMTTYPE=image/png:https://ssucedmonton.com/wp-content/uploads/2024/10/Resource-Fall2024.png
GEO:53.44805;-113.506732
X-APPLE-STRUCTURED-LOCATION;VALUE=URI;X-ADDRESS=SSUC Edmonton- Spiritual Seekers United in Community 10740-19 Avenue NW Edmonton AB T6J 6W9 Canada;X-APPLE-RADIUS=500;X-TITLE=10740-19 Avenue NW:geo:-113.506732,53.44805
END:VEVENT
BEGIN:VEVENT
DTSTART;TZID=America/Edmonton:20291122T191500
DTEND;TZID=America/Edmonton:20291122T210000
DTSTAMP:20260425T201919
CREATED:20250724T174610Z
LAST-MODIFIED:20251119T213753Z
UID:10004810-1890069300-1890075600@ssucedmonton.com
SUMMARY:Choir Rehearsal
DESCRIPTION:All welcome.
URL:https://ssucedmonton.com/event/choir-rehearsal/2029-11-22/
LOCATION:SSUC Edmonton- Spiritual Seekers United in Community\, 10740-19 Avenue NW\, Edmonton\, AB\, T6J 6W9\, Canada
CATEGORIES:Choir Rehearsal
GEO:53.44805;-113.506732
X-APPLE-STRUCTURED-LOCATION;VALUE=URI;X-ADDRESS=SSUC Edmonton- Spiritual Seekers United in Community 10740-19 Avenue NW Edmonton AB T6J 6W9 Canada;X-APPLE-RADIUS=500;X-TITLE=10740-19 Avenue NW:geo:-113.506732,53.44805
END:VEVENT
BEGIN:VEVENT
DTSTART;TZID=America/Edmonton:20291125T100000
DTEND;TZID=America/Edmonton:20291125T110000
DTSTAMP:20260425T201919
CREATED:20240711T222544Z
LAST-MODIFIED:20260327T205223Z
UID:10003374-1890295200-1890298800@ssucedmonton.com
SUMMARY:Spiritual Gathering (In-Person & Online)
DESCRIPTION:Join us for a Sunday morning of music\, community\, spiritual reflection\, and strengthening our commitment to live fully and love deeply in relation. As an affirming community\, we seek to explore and celebrate our spirituality together as people of every age\, gender\, race\, sexual orientation\, gender identity\, mental or physical ability\, marital status\, economic or cultural background.
URL:https://ssucedmonton.com/event/spiritual-gathering-in-person-online/2029-11-25/
LOCATION:SSUC Edmonton- Spiritual Seekers United in Community\, 10740-19 Avenue NW\, Edmonton\, AB\, T6J 6W9\, Canada
CATEGORIES:Affirming Event,Community Event,Hybrid Event
ATTACH;FMTTYPE=image/png:https://ssucedmonton.com/wp-content/uploads/2024/07/rhythm-2-1.png
GEO:53.44805;-113.506732
X-APPLE-STRUCTURED-LOCATION;VALUE=URI;X-ADDRESS=SSUC Edmonton- Spiritual Seekers United in Community 10740-19 Avenue NW Edmonton AB T6J 6W9 Canada;X-APPLE-RADIUS=500;X-TITLE=10740-19 Avenue NW:geo:-113.506732,53.44805
END:VEVENT
BEGIN:VEVENT
DTSTART;TZID=America/Edmonton:20291125T111500
DTEND;TZID=America/Edmonton:20291125T121500
DTSTAMP:20260425T201919
CREATED:20240924T184434Z
LAST-MODIFIED:20260220T215235Z
UID:10003446-1890299700-1890303300@ssucedmonton.com
SUMMARY:Post-Gathering Reflections
DESCRIPTION:Every week at about 11:15 MDT\, join in a casual zoom conversation to connect and discuss the morning’s gathering in ways it resonates and challenges.
URL:https://ssucedmonton.com/event/post-gathering-reflections-2/2029-11-25/
LOCATION:SSUC Edmonton- Spiritual Seekers United in Community\, 10740-19 Avenue NW\, Edmonton\, AB\, T6J 6W9\, Canada
CATEGORIES:Seminar/Workshop
ATTACH;FMTTYPE=image/png:https://ssucedmonton.com/wp-content/uploads/2024/07/Untitled-design-3-e1724004586746.png
GEO:53.44805;-113.506732
X-APPLE-STRUCTURED-LOCATION;VALUE=URI;X-ADDRESS=SSUC Edmonton- Spiritual Seekers United in Community 10740-19 Avenue NW Edmonton AB T6J 6W9 Canada;X-APPLE-RADIUS=500;X-TITLE=10740-19 Avenue NW:geo:-113.506732,53.44805
END:VEVENT
BEGIN:VEVENT
DTSTART;TZID=America/Edmonton:20291127T100000
DTEND;TZID=America/Edmonton:20291127T113000
DTSTAMP:20260425T201919
CREATED:20251119T214125Z
LAST-MODIFIED:20260416T195015Z
UID:10005071-1890468000-1890473400@ssucedmonton.com
SUMMARY:Men's Coffee Group
DESCRIPTION:Tuesdays at 10:00 a.m. in the lower level Music Room. Bring your own coffee mug.
URL:https://ssucedmonton.com/event/mens-coffee-group/2029-11-27/
LOCATION:AB
CATEGORIES:Social Group
END:VEVENT
BEGIN:VEVENT
DTSTART;TZID=America/Edmonton:20291129T170000
DTEND;TZID=America/Edmonton:20291129T180000
DTSTAMP:20260425T201919
CREATED:20240714T204433Z
LAST-MODIFIED:20241009T182257Z
UID:10003397-1890666000-1890669600@ssucedmonton.com
SUMMARY:Food Bank Distribution
DESCRIPTION:Pick up depot for registered food bank clients.
URL:https://ssucedmonton.com/event/food-bank-distribution/2029-11-29/
LOCATION:SSUC Edmonton- Spiritual Seekers United in Community\, 10740-19 Avenue NW\, Edmonton\, AB\, T6J 6W9\, Canada
CATEGORIES:Resource Group
ATTACH;FMTTYPE=image/png:https://ssucedmonton.com/wp-content/uploads/2024/07/Untitled-design-6-e1728498041672.png
GEO:53.44805;-113.506732
X-APPLE-STRUCTURED-LOCATION;VALUE=URI;X-ADDRESS=SSUC Edmonton- Spiritual Seekers United in Community 10740-19 Avenue NW Edmonton AB T6J 6W9 Canada;X-APPLE-RADIUS=500;X-TITLE=10740-19 Avenue NW:geo:-113.506732,53.44805
END:VEVENT
BEGIN:VEVENT
DTSTART;TZID=America/Edmonton:20291129T180000
DTEND;TZID=America/Edmonton:20291129T190000
DTSTAMP:20260425T201919
CREATED:20241001T173552Z
LAST-MODIFIED:20241223T233508Z
UID:10003429-1890669600-1890673200@ssucedmonton.com
SUMMARY:Resource Discussion Group
DESCRIPTION:A weekly discussion group\, with a new topic each week. All are welcome. \n\nA weekly time for meaningful conversations.\nA space for ‘resourcing’ ourselves for living our values.\nA time for connecting as community.
URL:https://ssucedmonton.com/event/resource-discussion-group/2029-11-29/
LOCATION:SSUC Edmonton- Spiritual Seekers United in Community\, 10740-19 Avenue NW\, Edmonton\, AB\, T6J 6W9\, Canada
CATEGORIES:Resource Group
ATTACH;FMTTYPE=image/png:https://ssucedmonton.com/wp-content/uploads/2024/10/Resource-Fall2024.png
GEO:53.44805;-113.506732
X-APPLE-STRUCTURED-LOCATION;VALUE=URI;X-ADDRESS=SSUC Edmonton- Spiritual Seekers United in Community 10740-19 Avenue NW Edmonton AB T6J 6W9 Canada;X-APPLE-RADIUS=500;X-TITLE=10740-19 Avenue NW:geo:-113.506732,53.44805
END:VEVENT
BEGIN:VEVENT
DTSTART;TZID=America/Edmonton:20291129T191500
DTEND;TZID=America/Edmonton:20291129T210000
DTSTAMP:20260425T201919
CREATED:20250724T174610Z
LAST-MODIFIED:20251119T213753Z
UID:10004811-1890674100-1890680400@ssucedmonton.com
SUMMARY:Choir Rehearsal
DESCRIPTION:All welcome.
URL:https://ssucedmonton.com/event/choir-rehearsal/2029-11-29/
LOCATION:SSUC Edmonton- Spiritual Seekers United in Community\, 10740-19 Avenue NW\, Edmonton\, AB\, T6J 6W9\, Canada
CATEGORIES:Choir Rehearsal
GEO:53.44805;-113.506732
X-APPLE-STRUCTURED-LOCATION;VALUE=URI;X-ADDRESS=SSUC Edmonton- Spiritual Seekers United in Community 10740-19 Avenue NW Edmonton AB T6J 6W9 Canada;X-APPLE-RADIUS=500;X-TITLE=10740-19 Avenue NW:geo:-113.506732,53.44805
END:VEVENT
BEGIN:VEVENT
DTSTART;TZID=America/Edmonton:20291202T100000
DTEND;TZID=America/Edmonton:20291202T110000
DTSTAMP:20260425T201919
CREATED:20240711T222544Z
LAST-MODIFIED:20260327T205223Z
UID:10003408-1890900000-1890903600@ssucedmonton.com
SUMMARY:Spiritual Gathering (In-Person & Online)
DESCRIPTION:Join us for a Sunday morning of music\, community\, spiritual reflection\, and strengthening our commitment to live fully and love deeply in relation. As an affirming community\, we seek to explore and celebrate our spirituality together as people of every age\, gender\, race\, sexual orientation\, gender identity\, mental or physical ability\, marital status\, economic or cultural background.
URL:https://ssucedmonton.com/event/spiritual-gathering-in-person-online/2029-12-02/
LOCATION:SSUC Edmonton- Spiritual Seekers United in Community\, 10740-19 Avenue NW\, Edmonton\, AB\, T6J 6W9\, Canada
CATEGORIES:Affirming Event,Community Event,Hybrid Event
ATTACH;FMTTYPE=image/png:https://ssucedmonton.com/wp-content/uploads/2024/07/rhythm-2-1.png
GEO:53.44805;-113.506732
X-APPLE-STRUCTURED-LOCATION;VALUE=URI;X-ADDRESS=SSUC Edmonton- Spiritual Seekers United in Community 10740-19 Avenue NW Edmonton AB T6J 6W9 Canada;X-APPLE-RADIUS=500;X-TITLE=10740-19 Avenue NW:geo:-113.506732,53.44805
END:VEVENT
BEGIN:VEVENT
DTSTART;TZID=America/Edmonton:20291202T111500
DTEND;TZID=America/Edmonton:20291202T121500
DTSTAMP:20260425T201919
CREATED:20240924T184434Z
LAST-MODIFIED:20260220T215235Z
UID:10003447-1890904500-1890908100@ssucedmonton.com
SUMMARY:Post-Gathering Reflections
DESCRIPTION:Every week at about 11:15 MDT\, join in a casual zoom conversation to connect and discuss the morning’s gathering in ways it resonates and challenges.
URL:https://ssucedmonton.com/event/post-gathering-reflections-2/2029-12-02/
LOCATION:SSUC Edmonton- Spiritual Seekers United in Community\, 10740-19 Avenue NW\, Edmonton\, AB\, T6J 6W9\, Canada
CATEGORIES:Seminar/Workshop
ATTACH;FMTTYPE=image/png:https://ssucedmonton.com/wp-content/uploads/2024/07/Untitled-design-3-e1724004586746.png
GEO:53.44805;-113.506732
X-APPLE-STRUCTURED-LOCATION;VALUE=URI;X-ADDRESS=SSUC Edmonton- Spiritual Seekers United in Community 10740-19 Avenue NW Edmonton AB T6J 6W9 Canada;X-APPLE-RADIUS=500;X-TITLE=10740-19 Avenue NW:geo:-113.506732,53.44805
END:VEVENT
BEGIN:VEVENT
DTSTART;TZID=America/Edmonton:20291204T100000
DTEND;TZID=America/Edmonton:20291204T113000
DTSTAMP:20260425T201919
CREATED:20251119T214125Z
LAST-MODIFIED:20260416T195015Z
UID:10005072-1891072800-1891078200@ssucedmonton.com
SUMMARY:Men's Coffee Group
DESCRIPTION:Tuesdays at 10:00 a.m. in the lower level Music Room. Bring your own coffee mug.
URL:https://ssucedmonton.com/event/mens-coffee-group/2029-12-04/
LOCATION:AB
CATEGORIES:Social Group
END:VEVENT
BEGIN:VEVENT
DTSTART;TZID=America/Edmonton:20291204T190000
DTEND;TZID=America/Edmonton:20291204T203000
DTSTAMP:20260425T201919
CREATED:20241008T193343Z
LAST-MODIFIED:20241008T193431Z
UID:10003558-1891105200-1891110600@ssucedmonton.com
SUMMARY:Moving Forward to Reconciliation Meeting via Zoom
DESCRIPTION:
URL:https://ssucedmonton.com/event/moving-forward-to-reconciliation-meeting-via-zoom/2029-12-04/
LOCATION:SSUC Edmonton- Spiritual Seekers United in Community\, 10740-19 Avenue NW\, Edmonton\, AB\, T6J 6W9\, Canada
CATEGORIES:Board or Committee Meeting
ATTACH;FMTTYPE=image/png:https://ssucedmonton.com/wp-content/uploads/2024/08/meeting-icon-website-e1727282908277.png
GEO:53.44805;-113.506732
X-APPLE-STRUCTURED-LOCATION;VALUE=URI;X-ADDRESS=SSUC Edmonton- Spiritual Seekers United in Community 10740-19 Avenue NW Edmonton AB T6J 6W9 Canada;X-APPLE-RADIUS=500;X-TITLE=10740-19 Avenue NW:geo:-113.506732,53.44805
END:VEVENT
BEGIN:VEVENT
DTSTART;TZID=America/Edmonton:20291206T170000
DTEND;TZID=America/Edmonton:20291206T180000
DTSTAMP:20260425T201919
CREATED:20240714T204433Z
LAST-MODIFIED:20241009T182257Z
UID:10003412-1891270800-1891274400@ssucedmonton.com
SUMMARY:Food Bank Distribution
DESCRIPTION:Pick up depot for registered food bank clients.
URL:https://ssucedmonton.com/event/food-bank-distribution/2029-12-06/
LOCATION:SSUC Edmonton- Spiritual Seekers United in Community\, 10740-19 Avenue NW\, Edmonton\, AB\, T6J 6W9\, Canada
CATEGORIES:Resource Group
ATTACH;FMTTYPE=image/png:https://ssucedmonton.com/wp-content/uploads/2024/07/Untitled-design-6-e1728498041672.png
GEO:53.44805;-113.506732
X-APPLE-STRUCTURED-LOCATION;VALUE=URI;X-ADDRESS=SSUC Edmonton- Spiritual Seekers United in Community 10740-19 Avenue NW Edmonton AB T6J 6W9 Canada;X-APPLE-RADIUS=500;X-TITLE=10740-19 Avenue NW:geo:-113.506732,53.44805
END:VEVENT
BEGIN:VEVENT
DTSTART;TZID=America/Edmonton:20291206T180000
DTEND;TZID=America/Edmonton:20291206T190000
DTSTAMP:20260425T201919
CREATED:20241001T173552Z
LAST-MODIFIED:20241223T233508Z
UID:10003430-1891274400-1891278000@ssucedmonton.com
SUMMARY:Resource Discussion Group
DESCRIPTION:A weekly discussion group\, with a new topic each week. All are welcome. \n\nA weekly time for meaningful conversations.\nA space for ‘resourcing’ ourselves for living our values.\nA time for connecting as community.
URL:https://ssucedmonton.com/event/resource-discussion-group/2029-12-06/
LOCATION:SSUC Edmonton- Spiritual Seekers United in Community\, 10740-19 Avenue NW\, Edmonton\, AB\, T6J 6W9\, Canada
CATEGORIES:Resource Group
ATTACH;FMTTYPE=image/png:https://ssucedmonton.com/wp-content/uploads/2024/10/Resource-Fall2024.png
GEO:53.44805;-113.506732
X-APPLE-STRUCTURED-LOCATION;VALUE=URI;X-ADDRESS=SSUC Edmonton- Spiritual Seekers United in Community 10740-19 Avenue NW Edmonton AB T6J 6W9 Canada;X-APPLE-RADIUS=500;X-TITLE=10740-19 Avenue NW:geo:-113.506732,53.44805
END:VEVENT
BEGIN:VEVENT
DTSTART;TZID=America/Edmonton:20291206T191500
DTEND;TZID=America/Edmonton:20291206T210000
DTSTAMP:20260425T201919
CREATED:20250724T174610Z
LAST-MODIFIED:20251119T213753Z
UID:10004812-1891278900-1891285200@ssucedmonton.com
SUMMARY:Choir Rehearsal
DESCRIPTION:All welcome.
URL:https://ssucedmonton.com/event/choir-rehearsal/2029-12-06/
LOCATION:SSUC Edmonton- Spiritual Seekers United in Community\, 10740-19 Avenue NW\, Edmonton\, AB\, T6J 6W9\, Canada
CATEGORIES:Choir Rehearsal
GEO:53.44805;-113.506732
X-APPLE-STRUCTURED-LOCATION;VALUE=URI;X-ADDRESS=SSUC Edmonton- Spiritual Seekers United in Community 10740-19 Avenue NW Edmonton AB T6J 6W9 Canada;X-APPLE-RADIUS=500;X-TITLE=10740-19 Avenue NW:geo:-113.506732,53.44805
END:VEVENT
BEGIN:VEVENT
DTSTART;TZID=America/Edmonton:20291209T100000
DTEND;TZID=America/Edmonton:20291209T110000
DTSTAMP:20260425T201919
CREATED:20240711T222544Z
LAST-MODIFIED:20260327T205223Z
UID:10003414-1891504800-1891508400@ssucedmonton.com
SUMMARY:Spiritual Gathering (In-Person & Online)
DESCRIPTION:Join us for a Sunday morning of music\, community\, spiritual reflection\, and strengthening our commitment to live fully and love deeply in relation. As an affirming community\, we seek to explore and celebrate our spirituality together as people of every age\, gender\, race\, sexual orientation\, gender identity\, mental or physical ability\, marital status\, economic or cultural background.
URL:https://ssucedmonton.com/event/spiritual-gathering-in-person-online/2029-12-09/
LOCATION:SSUC Edmonton- Spiritual Seekers United in Community\, 10740-19 Avenue NW\, Edmonton\, AB\, T6J 6W9\, Canada
CATEGORIES:Affirming Event,Community Event,Hybrid Event
ATTACH;FMTTYPE=image/png:https://ssucedmonton.com/wp-content/uploads/2024/07/rhythm-2-1.png
GEO:53.44805;-113.506732
X-APPLE-STRUCTURED-LOCATION;VALUE=URI;X-ADDRESS=SSUC Edmonton- Spiritual Seekers United in Community 10740-19 Avenue NW Edmonton AB T6J 6W9 Canada;X-APPLE-RADIUS=500;X-TITLE=10740-19 Avenue NW:geo:-113.506732,53.44805
END:VEVENT
BEGIN:VEVENT
DTSTART;TZID=America/Edmonton:20291209T111500
DTEND;TZID=America/Edmonton:20291209T121500
DTSTAMP:20260425T201919
CREATED:20240924T184434Z
LAST-MODIFIED:20260220T215235Z
UID:10003448-1891509300-1891512900@ssucedmonton.com
SUMMARY:Post-Gathering Reflections
DESCRIPTION:Every week at about 11:15 MDT\, join in a casual zoom conversation to connect and discuss the morning’s gathering in ways it resonates and challenges.
URL:https://ssucedmonton.com/event/post-gathering-reflections-2/2029-12-09/
LOCATION:SSUC Edmonton- Spiritual Seekers United in Community\, 10740-19 Avenue NW\, Edmonton\, AB\, T6J 6W9\, Canada
CATEGORIES:Seminar/Workshop
ATTACH;FMTTYPE=image/png:https://ssucedmonton.com/wp-content/uploads/2024/07/Untitled-design-3-e1724004586746.png
GEO:53.44805;-113.506732
X-APPLE-STRUCTURED-LOCATION;VALUE=URI;X-ADDRESS=SSUC Edmonton- Spiritual Seekers United in Community 10740-19 Avenue NW Edmonton AB T6J 6W9 Canada;X-APPLE-RADIUS=500;X-TITLE=10740-19 Avenue NW:geo:-113.506732,53.44805
END:VEVENT
BEGIN:VEVENT
DTSTART;TZID=America/Edmonton:20291211T100000
DTEND;TZID=America/Edmonton:20291211T113000
DTSTAMP:20260425T201919
CREATED:20251119T214125Z
LAST-MODIFIED:20260416T195015Z
UID:10005073-1891677600-1891683000@ssucedmonton.com
SUMMARY:Men's Coffee Group
DESCRIPTION:Tuesdays at 10:00 a.m. in the lower level Music Room. Bring your own coffee mug.
URL:https://ssucedmonton.com/event/mens-coffee-group/2029-12-11/
LOCATION:AB
CATEGORIES:Social Group
END:VEVENT
BEGIN:VEVENT
DTSTART;TZID=America/Edmonton:20291213T130000
DTEND;TZID=America/Edmonton:20291213T150000
DTSTAMP:20260425T201919
CREATED:20241008T192007Z
LAST-MODIFIED:20241008T193519Z
UID:10003502-1891861200-1891868400@ssucedmonton.com
SUMMARY:Congregational Care Committee Meeting
DESCRIPTION:
URL:https://ssucedmonton.com/event/congregational-care-committee-meeting/2029-12-13/
LOCATION:SSUC Edmonton- Spiritual Seekers United in Community\, 10740-19 Avenue NW\, Edmonton\, AB\, T6J 6W9\, Canada
CATEGORIES:Congregational Care,Meeting
ATTACH;FMTTYPE=image/png:https://ssucedmonton.com/wp-content/uploads/2024/08/meeting-icon-website-e1727282908277.png
GEO:53.44805;-113.506732
X-APPLE-STRUCTURED-LOCATION;VALUE=URI;X-ADDRESS=SSUC Edmonton- Spiritual Seekers United in Community 10740-19 Avenue NW Edmonton AB T6J 6W9 Canada;X-APPLE-RADIUS=500;X-TITLE=10740-19 Avenue NW:geo:-113.506732,53.44805
END:VEVENT
END:VCALENDAR