BEGIN:VCALENDAR
VERSION:2.0
PRODID:-//Spiritual Seekers United in Community - ECPv6.15.20//NONSGML v1.0//EN
CALSCALE:GREGORIAN
METHOD:PUBLISH
X-WR-CALNAME:Spiritual Seekers United in Community
X-ORIGINAL-URL:https://ssucedmonton.com
X-WR-CALDESC:Events for Spiritual Seekers United in Community
REFRESH-INTERVAL;VALUE=DURATION:PT1H
X-Robots-Tag:noindex
X-PUBLISHED-TTL:PT1H
BEGIN:VTIMEZONE
TZID:America/Edmonton
BEGIN:DAYLIGHT
TZOFFSETFROM:-0700
TZOFFSETTO:-0600
TZNAME:MDT
DTSTART:20270314T090000
END:DAYLIGHT
BEGIN:STANDARD
TZOFFSETFROM:-0600
TZOFFSETTO:-0700
TZNAME:MST
DTSTART:20271107T080000
END:STANDARD
BEGIN:DAYLIGHT
TZOFFSETFROM:-0700
TZOFFSETTO:-0600
TZNAME:MDT
DTSTART:20280312T090000
END:DAYLIGHT
BEGIN:STANDARD
TZOFFSETFROM:-0600
TZOFFSETTO:-0700
TZNAME:MST
DTSTART:20281105T080000
END:STANDARD
BEGIN:DAYLIGHT
TZOFFSETFROM:-0700
TZOFFSETTO:-0600
TZNAME:MDT
DTSTART:20290311T090000
END:DAYLIGHT
BEGIN:STANDARD
TZOFFSETFROM:-0600
TZOFFSETTO:-0700
TZNAME:MST
DTSTART:20291104T080000
END:STANDARD
END:VTIMEZONE
BEGIN:VEVENT
DTSTART;TZID=America/Edmonton:20280608T130000
DTEND;TZID=America/Edmonton:20280608T150000
DTSTAMP:20260419T204048
CREATED:20241008T192007Z
LAST-MODIFIED:20241008T193519Z
UID:10002720-1844082000-1844089200@ssucedmonton.com
SUMMARY:Congregational Care Committee Meeting
DESCRIPTION:
URL:https://ssucedmonton.com/event/congregational-care-committee-meeting/2028-06-08/
LOCATION:SSUC Edmonton- Spiritual Seekers United in Community\, 10740-19 Avenue NW\, Edmonton\, AB\, T6J 6W9\, Canada
CATEGORIES:Congregational Care,Meeting
ATTACH;FMTTYPE=image/png:https://ssucedmonton.com/wp-content/uploads/2024/08/meeting-icon-website-e1727282908277.png
GEO:53.44805;-113.506732
X-APPLE-STRUCTURED-LOCATION;VALUE=URI;X-ADDRESS=SSUC Edmonton- Spiritual Seekers United in Community 10740-19 Avenue NW Edmonton AB T6J 6W9 Canada;X-APPLE-RADIUS=500;X-TITLE=10740-19 Avenue NW:geo:-113.506732,53.44805
END:VEVENT
BEGIN:VEVENT
DTSTART;TZID=America/Edmonton:20280608T170000
DTEND;TZID=America/Edmonton:20280608T180000
DTSTAMP:20260419T204048
CREATED:20240714T204433Z
LAST-MODIFIED:20241009T182257Z
UID:10001514-1844096400-1844100000@ssucedmonton.com
SUMMARY:Food Bank Distribution
DESCRIPTION:Pick up depot for registered food bank clients.
URL:https://ssucedmonton.com/event/food-bank-distribution/2028-06-08/
LOCATION:SSUC Edmonton- Spiritual Seekers United in Community\, 10740-19 Avenue NW\, Edmonton\, AB\, T6J 6W9\, Canada
CATEGORIES:Resource Group
ATTACH;FMTTYPE=image/png:https://ssucedmonton.com/wp-content/uploads/2024/07/Untitled-design-6-e1728498041672.png
GEO:53.44805;-113.506732
X-APPLE-STRUCTURED-LOCATION;VALUE=URI;X-ADDRESS=SSUC Edmonton- Spiritual Seekers United in Community 10740-19 Avenue NW Edmonton AB T6J 6W9 Canada;X-APPLE-RADIUS=500;X-TITLE=10740-19 Avenue NW:geo:-113.506732,53.44805
END:VEVENT
BEGIN:VEVENT
DTSTART;TZID=America/Edmonton:20280608T180000
DTEND;TZID=America/Edmonton:20280608T190000
DTSTAMP:20260419T204048
CREATED:20241001T173552Z
LAST-MODIFIED:20241223T233508Z
UID:10002601-1844100000-1844103600@ssucedmonton.com
SUMMARY:Resource Discussion Group
DESCRIPTION:A weekly discussion group\, with a new topic each week. All are welcome. \n\nA weekly time for meaningful conversations.\nA space for ‘resourcing’ ourselves for living our values.\nA time for connecting as community.
URL:https://ssucedmonton.com/event/resource-discussion-group/2028-06-08/
LOCATION:SSUC Edmonton- Spiritual Seekers United in Community\, 10740-19 Avenue NW\, Edmonton\, AB\, T6J 6W9\, Canada
CATEGORIES:Resource Group
ATTACH;FMTTYPE=image/png:https://ssucedmonton.com/wp-content/uploads/2024/10/Resource-Fall2024.png
GEO:53.44805;-113.506732
X-APPLE-STRUCTURED-LOCATION;VALUE=URI;X-ADDRESS=SSUC Edmonton- Spiritual Seekers United in Community 10740-19 Avenue NW Edmonton AB T6J 6W9 Canada;X-APPLE-RADIUS=500;X-TITLE=10740-19 Avenue NW:geo:-113.506732,53.44805
END:VEVENT
BEGIN:VEVENT
DTSTART;TZID=America/Edmonton:20280608T191500
DTEND;TZID=America/Edmonton:20280608T210000
DTSTAMP:20260419T204048
CREATED:20250724T174610Z
LAST-MODIFIED:20251119T213753Z
UID:10004734-1844104500-1844110800@ssucedmonton.com
SUMMARY:Choir Rehearsal
DESCRIPTION:All welcome.
URL:https://ssucedmonton.com/event/choir-rehearsal/2028-06-08/
LOCATION:SSUC Edmonton- Spiritual Seekers United in Community\, 10740-19 Avenue NW\, Edmonton\, AB\, T6J 6W9\, Canada
CATEGORIES:Choir Rehearsal
GEO:53.44805;-113.506732
X-APPLE-STRUCTURED-LOCATION;VALUE=URI;X-ADDRESS=SSUC Edmonton- Spiritual Seekers United in Community 10740-19 Avenue NW Edmonton AB T6J 6W9 Canada;X-APPLE-RADIUS=500;X-TITLE=10740-19 Avenue NW:geo:-113.506732,53.44805
END:VEVENT
BEGIN:VEVENT
DTSTART;TZID=America/Edmonton:20280611T100000
DTEND;TZID=America/Edmonton:20280611T110000
DTSTAMP:20260419T204048
CREATED:20240711T222544Z
LAST-MODIFIED:20260327T205223Z
UID:10000208-1844330400-1844334000@ssucedmonton.com
SUMMARY:Spiritual Gathering (In-Person & Online)
DESCRIPTION:Join us for a Sunday morning of music\, community\, spiritual reflection\, and strengthening our commitment to live fully and love deeply in relation. As an affirming community\, we seek to explore and celebrate our spirituality together as people of every age\, gender\, race\, sexual orientation\, gender identity\, mental or physical ability\, marital status\, economic or cultural background.
URL:https://ssucedmonton.com/event/spiritual-gathering-in-person-online/2028-06-11/
LOCATION:SSUC Edmonton- Spiritual Seekers United in Community\, 10740-19 Avenue NW\, Edmonton\, AB\, T6J 6W9\, Canada
CATEGORIES:Affirming Event,Community Event,Hybrid Event
ATTACH;FMTTYPE=image/png:https://ssucedmonton.com/wp-content/uploads/2024/07/rhythm-2-1.png
GEO:53.44805;-113.506732
X-APPLE-STRUCTURED-LOCATION;VALUE=URI;X-ADDRESS=SSUC Edmonton- Spiritual Seekers United in Community 10740-19 Avenue NW Edmonton AB T6J 6W9 Canada;X-APPLE-RADIUS=500;X-TITLE=10740-19 Avenue NW:geo:-113.506732,53.44805
END:VEVENT
BEGIN:VEVENT
DTSTART;TZID=America/Edmonton:20280611T111500
DTEND;TZID=America/Edmonton:20280611T121500
DTSTAMP:20260419T204048
CREATED:20240924T184434Z
LAST-MODIFIED:20260220T215235Z
UID:10000730-1844334900-1844338500@ssucedmonton.com
SUMMARY:Post-Gathering Reflections
DESCRIPTION:Every week at about 11:15 MDT\, join in a casual zoom conversation to connect and discuss the morning’s gathering in ways it resonates and challenges.
URL:https://ssucedmonton.com/event/post-gathering-reflections-2/2028-06-11/
LOCATION:SSUC Edmonton- Spiritual Seekers United in Community\, 10740-19 Avenue NW\, Edmonton\, AB\, T6J 6W9\, Canada
CATEGORIES:Seminar/Workshop
ATTACH;FMTTYPE=image/png:https://ssucedmonton.com/wp-content/uploads/2024/07/Untitled-design-3-e1724004586746.png
GEO:53.44805;-113.506732
X-APPLE-STRUCTURED-LOCATION;VALUE=URI;X-ADDRESS=SSUC Edmonton- Spiritual Seekers United in Community 10740-19 Avenue NW Edmonton AB T6J 6W9 Canada;X-APPLE-RADIUS=500;X-TITLE=10740-19 Avenue NW:geo:-113.506732,53.44805
END:VEVENT
BEGIN:VEVENT
DTSTART;TZID=America/Edmonton:20280613T100000
DTEND;TZID=America/Edmonton:20280613T113000
DTSTAMP:20260419T204048
CREATED:20251119T214125Z
LAST-MODIFIED:20260416T195015Z
UID:10004995-1844503200-1844508600@ssucedmonton.com
SUMMARY:Men's Coffee Group
DESCRIPTION:Tuesdays at 10:00 a.m. in the lower level Music Room. Bring your own coffee mug.
URL:https://ssucedmonton.com/event/mens-coffee-group/2028-06-13/
LOCATION:AB
CATEGORIES:Social Group
END:VEVENT
BEGIN:VEVENT
DTSTART;TZID=America/Edmonton:20280615T170000
DTEND;TZID=America/Edmonton:20280615T180000
DTSTAMP:20260419T204048
CREATED:20240714T204433Z
LAST-MODIFIED:20241009T182257Z
UID:10001515-1844701200-1844704800@ssucedmonton.com
SUMMARY:Food Bank Distribution
DESCRIPTION:Pick up depot for registered food bank clients.
URL:https://ssucedmonton.com/event/food-bank-distribution/2028-06-15/
LOCATION:SSUC Edmonton- Spiritual Seekers United in Community\, 10740-19 Avenue NW\, Edmonton\, AB\, T6J 6W9\, Canada
CATEGORIES:Resource Group
ATTACH;FMTTYPE=image/png:https://ssucedmonton.com/wp-content/uploads/2024/07/Untitled-design-6-e1728498041672.png
GEO:53.44805;-113.506732
X-APPLE-STRUCTURED-LOCATION;VALUE=URI;X-ADDRESS=SSUC Edmonton- Spiritual Seekers United in Community 10740-19 Avenue NW Edmonton AB T6J 6W9 Canada;X-APPLE-RADIUS=500;X-TITLE=10740-19 Avenue NW:geo:-113.506732,53.44805
END:VEVENT
BEGIN:VEVENT
DTSTART;TZID=America/Edmonton:20280615T180000
DTEND;TZID=America/Edmonton:20280615T190000
DTSTAMP:20260419T204048
CREATED:20241001T173552Z
LAST-MODIFIED:20241223T233508Z
UID:10002602-1844704800-1844708400@ssucedmonton.com
SUMMARY:Resource Discussion Group
DESCRIPTION:A weekly discussion group\, with a new topic each week. All are welcome. \n\nA weekly time for meaningful conversations.\nA space for ‘resourcing’ ourselves for living our values.\nA time for connecting as community.
URL:https://ssucedmonton.com/event/resource-discussion-group/2028-06-15/
LOCATION:SSUC Edmonton- Spiritual Seekers United in Community\, 10740-19 Avenue NW\, Edmonton\, AB\, T6J 6W9\, Canada
CATEGORIES:Resource Group
ATTACH;FMTTYPE=image/png:https://ssucedmonton.com/wp-content/uploads/2024/10/Resource-Fall2024.png
GEO:53.44805;-113.506732
X-APPLE-STRUCTURED-LOCATION;VALUE=URI;X-ADDRESS=SSUC Edmonton- Spiritual Seekers United in Community 10740-19 Avenue NW Edmonton AB T6J 6W9 Canada;X-APPLE-RADIUS=500;X-TITLE=10740-19 Avenue NW:geo:-113.506732,53.44805
END:VEVENT
BEGIN:VEVENT
DTSTART;TZID=America/Edmonton:20280615T191500
DTEND;TZID=America/Edmonton:20280615T210000
DTSTAMP:20260419T204048
CREATED:20250724T174610Z
LAST-MODIFIED:20251119T213753Z
UID:10004735-1844709300-1844715600@ssucedmonton.com
SUMMARY:Choir Rehearsal
DESCRIPTION:All welcome.
URL:https://ssucedmonton.com/event/choir-rehearsal/2028-06-15/
LOCATION:SSUC Edmonton- Spiritual Seekers United in Community\, 10740-19 Avenue NW\, Edmonton\, AB\, T6J 6W9\, Canada
CATEGORIES:Choir Rehearsal
GEO:53.44805;-113.506732
X-APPLE-STRUCTURED-LOCATION;VALUE=URI;X-ADDRESS=SSUC Edmonton- Spiritual Seekers United in Community 10740-19 Avenue NW Edmonton AB T6J 6W9 Canada;X-APPLE-RADIUS=500;X-TITLE=10740-19 Avenue NW:geo:-113.506732,53.44805
END:VEVENT
BEGIN:VEVENT
DTSTART;TZID=America/Edmonton:20280618T100000
DTEND;TZID=America/Edmonton:20280618T110000
DTSTAMP:20260419T204048
CREATED:20240711T222544Z
LAST-MODIFIED:20260327T205223Z
UID:10000209-1844935200-1844938800@ssucedmonton.com
SUMMARY:Spiritual Gathering (In-Person & Online)
DESCRIPTION:Join us for a Sunday morning of music\, community\, spiritual reflection\, and strengthening our commitment to live fully and love deeply in relation. As an affirming community\, we seek to explore and celebrate our spirituality together as people of every age\, gender\, race\, sexual orientation\, gender identity\, mental or physical ability\, marital status\, economic or cultural background.
URL:https://ssucedmonton.com/event/spiritual-gathering-in-person-online/2028-06-18/
LOCATION:SSUC Edmonton- Spiritual Seekers United in Community\, 10740-19 Avenue NW\, Edmonton\, AB\, T6J 6W9\, Canada
CATEGORIES:Affirming Event,Community Event,Hybrid Event
ATTACH;FMTTYPE=image/png:https://ssucedmonton.com/wp-content/uploads/2024/07/rhythm-2-1.png
GEO:53.44805;-113.506732
X-APPLE-STRUCTURED-LOCATION;VALUE=URI;X-ADDRESS=SSUC Edmonton- Spiritual Seekers United in Community 10740-19 Avenue NW Edmonton AB T6J 6W9 Canada;X-APPLE-RADIUS=500;X-TITLE=10740-19 Avenue NW:geo:-113.506732,53.44805
END:VEVENT
BEGIN:VEVENT
DTSTART;TZID=America/Edmonton:20280618T111500
DTEND;TZID=America/Edmonton:20280618T121500
DTSTAMP:20260419T204048
CREATED:20240924T184434Z
LAST-MODIFIED:20260220T215235Z
UID:10000731-1844939700-1844943300@ssucedmonton.com
SUMMARY:Post-Gathering Reflections
DESCRIPTION:Every week at about 11:15 MDT\, join in a casual zoom conversation to connect and discuss the morning’s gathering in ways it resonates and challenges.
URL:https://ssucedmonton.com/event/post-gathering-reflections-2/2028-06-18/
LOCATION:SSUC Edmonton- Spiritual Seekers United in Community\, 10740-19 Avenue NW\, Edmonton\, AB\, T6J 6W9\, Canada
CATEGORIES:Seminar/Workshop
ATTACH;FMTTYPE=image/png:https://ssucedmonton.com/wp-content/uploads/2024/07/Untitled-design-3-e1724004586746.png
GEO:53.44805;-113.506732
X-APPLE-STRUCTURED-LOCATION;VALUE=URI;X-ADDRESS=SSUC Edmonton- Spiritual Seekers United in Community 10740-19 Avenue NW Edmonton AB T6J 6W9 Canada;X-APPLE-RADIUS=500;X-TITLE=10740-19 Avenue NW:geo:-113.506732,53.44805
END:VEVENT
BEGIN:VEVENT
DTSTART;TZID=America/Edmonton:20280620T100000
DTEND;TZID=America/Edmonton:20280620T113000
DTSTAMP:20260419T204048
CREATED:20251119T214125Z
LAST-MODIFIED:20260416T195015Z
UID:10004996-1845108000-1845113400@ssucedmonton.com
SUMMARY:Men's Coffee Group
DESCRIPTION:Tuesdays at 10:00 a.m. in the lower level Music Room. Bring your own coffee mug.
URL:https://ssucedmonton.com/event/mens-coffee-group/2028-06-20/
LOCATION:AB
CATEGORIES:Social Group
END:VEVENT
BEGIN:VEVENT
DTSTART;TZID=America/Edmonton:20280620T183000
DTEND;TZID=America/Edmonton:20280620T203000
DTSTAMP:20260419T204048
CREATED:20250410T184038Z
LAST-MODIFIED:20250410T184038Z
UID:10003738-1845138600-1845145800@ssucedmonton.com
SUMMARY:SSUC Board Meeting
DESCRIPTION:
URL:https://ssucedmonton.com/event/ssuc-board-meeting-2/2028-06-20/
LOCATION:SSUC Edmonton- Spiritual Seekers United in Community\, 10740-19 Avenue NW\, Edmonton\, AB\, T6J 6W9\, Canada
CATEGORIES:Board or Committee Meeting
GEO:53.44805;-113.506732
X-APPLE-STRUCTURED-LOCATION;VALUE=URI;X-ADDRESS=SSUC Edmonton- Spiritual Seekers United in Community 10740-19 Avenue NW Edmonton AB T6J 6W9 Canada;X-APPLE-RADIUS=500;X-TITLE=10740-19 Avenue NW:geo:-113.506732,53.44805
END:VEVENT
BEGIN:VEVENT
DTSTART;TZID=America/Edmonton:20280622T170000
DTEND;TZID=America/Edmonton:20280622T180000
DTSTAMP:20260419T204048
CREATED:20240714T204433Z
LAST-MODIFIED:20241009T182257Z
UID:10001516-1845306000-1845309600@ssucedmonton.com
SUMMARY:Food Bank Distribution
DESCRIPTION:Pick up depot for registered food bank clients.
URL:https://ssucedmonton.com/event/food-bank-distribution/2028-06-22/
LOCATION:SSUC Edmonton- Spiritual Seekers United in Community\, 10740-19 Avenue NW\, Edmonton\, AB\, T6J 6W9\, Canada
CATEGORIES:Resource Group
ATTACH;FMTTYPE=image/png:https://ssucedmonton.com/wp-content/uploads/2024/07/Untitled-design-6-e1728498041672.png
GEO:53.44805;-113.506732
X-APPLE-STRUCTURED-LOCATION;VALUE=URI;X-ADDRESS=SSUC Edmonton- Spiritual Seekers United in Community 10740-19 Avenue NW Edmonton AB T6J 6W9 Canada;X-APPLE-RADIUS=500;X-TITLE=10740-19 Avenue NW:geo:-113.506732,53.44805
END:VEVENT
BEGIN:VEVENT
DTSTART;TZID=America/Edmonton:20280622T180000
DTEND;TZID=America/Edmonton:20280622T190000
DTSTAMP:20260419T204048
CREATED:20241001T173552Z
LAST-MODIFIED:20241223T233508Z
UID:10002603-1845309600-1845313200@ssucedmonton.com
SUMMARY:Resource Discussion Group
DESCRIPTION:A weekly discussion group\, with a new topic each week. All are welcome. \n\nA weekly time for meaningful conversations.\nA space for ‘resourcing’ ourselves for living our values.\nA time for connecting as community.
URL:https://ssucedmonton.com/event/resource-discussion-group/2028-06-22/
LOCATION:SSUC Edmonton- Spiritual Seekers United in Community\, 10740-19 Avenue NW\, Edmonton\, AB\, T6J 6W9\, Canada
CATEGORIES:Resource Group
ATTACH;FMTTYPE=image/png:https://ssucedmonton.com/wp-content/uploads/2024/10/Resource-Fall2024.png
GEO:53.44805;-113.506732
X-APPLE-STRUCTURED-LOCATION;VALUE=URI;X-ADDRESS=SSUC Edmonton- Spiritual Seekers United in Community 10740-19 Avenue NW Edmonton AB T6J 6W9 Canada;X-APPLE-RADIUS=500;X-TITLE=10740-19 Avenue NW:geo:-113.506732,53.44805
END:VEVENT
BEGIN:VEVENT
DTSTART;TZID=America/Edmonton:20280622T191500
DTEND;TZID=America/Edmonton:20280622T210000
DTSTAMP:20260419T204048
CREATED:20250724T174610Z
LAST-MODIFIED:20251119T213753Z
UID:10004736-1845314100-1845320400@ssucedmonton.com
SUMMARY:Choir Rehearsal
DESCRIPTION:All welcome.
URL:https://ssucedmonton.com/event/choir-rehearsal/2028-06-22/
LOCATION:SSUC Edmonton- Spiritual Seekers United in Community\, 10740-19 Avenue NW\, Edmonton\, AB\, T6J 6W9\, Canada
CATEGORIES:Choir Rehearsal
GEO:53.44805;-113.506732
X-APPLE-STRUCTURED-LOCATION;VALUE=URI;X-ADDRESS=SSUC Edmonton- Spiritual Seekers United in Community 10740-19 Avenue NW Edmonton AB T6J 6W9 Canada;X-APPLE-RADIUS=500;X-TITLE=10740-19 Avenue NW:geo:-113.506732,53.44805
END:VEVENT
BEGIN:VEVENT
DTSTART;TZID=America/Edmonton:20280625T100000
DTEND;TZID=America/Edmonton:20280625T110000
DTSTAMP:20260419T204048
CREATED:20240711T222544Z
LAST-MODIFIED:20260327T205223Z
UID:10000210-1845540000-1845543600@ssucedmonton.com
SUMMARY:Spiritual Gathering (In-Person & Online)
DESCRIPTION:Join us for a Sunday morning of music\, community\, spiritual reflection\, and strengthening our commitment to live fully and love deeply in relation. As an affirming community\, we seek to explore and celebrate our spirituality together as people of every age\, gender\, race\, sexual orientation\, gender identity\, mental or physical ability\, marital status\, economic or cultural background.
URL:https://ssucedmonton.com/event/spiritual-gathering-in-person-online/2028-06-25/
LOCATION:SSUC Edmonton- Spiritual Seekers United in Community\, 10740-19 Avenue NW\, Edmonton\, AB\, T6J 6W9\, Canada
CATEGORIES:Affirming Event,Community Event,Hybrid Event
ATTACH;FMTTYPE=image/png:https://ssucedmonton.com/wp-content/uploads/2024/07/rhythm-2-1.png
GEO:53.44805;-113.506732
X-APPLE-STRUCTURED-LOCATION;VALUE=URI;X-ADDRESS=SSUC Edmonton- Spiritual Seekers United in Community 10740-19 Avenue NW Edmonton AB T6J 6W9 Canada;X-APPLE-RADIUS=500;X-TITLE=10740-19 Avenue NW:geo:-113.506732,53.44805
END:VEVENT
BEGIN:VEVENT
DTSTART;TZID=America/Edmonton:20280625T111500
DTEND;TZID=America/Edmonton:20280625T121500
DTSTAMP:20260419T204048
CREATED:20240924T184434Z
LAST-MODIFIED:20260220T215235Z
UID:10000732-1845544500-1845548100@ssucedmonton.com
SUMMARY:Post-Gathering Reflections
DESCRIPTION:Every week at about 11:15 MDT\, join in a casual zoom conversation to connect and discuss the morning’s gathering in ways it resonates and challenges.
URL:https://ssucedmonton.com/event/post-gathering-reflections-2/2028-06-25/
LOCATION:SSUC Edmonton- Spiritual Seekers United in Community\, 10740-19 Avenue NW\, Edmonton\, AB\, T6J 6W9\, Canada
CATEGORIES:Seminar/Workshop
ATTACH;FMTTYPE=image/png:https://ssucedmonton.com/wp-content/uploads/2024/07/Untitled-design-3-e1724004586746.png
GEO:53.44805;-113.506732
X-APPLE-STRUCTURED-LOCATION;VALUE=URI;X-ADDRESS=SSUC Edmonton- Spiritual Seekers United in Community 10740-19 Avenue NW Edmonton AB T6J 6W9 Canada;X-APPLE-RADIUS=500;X-TITLE=10740-19 Avenue NW:geo:-113.506732,53.44805
END:VEVENT
BEGIN:VEVENT
DTSTART;TZID=America/Edmonton:20280627T100000
DTEND;TZID=America/Edmonton:20280627T113000
DTSTAMP:20260419T204048
CREATED:20251119T214125Z
LAST-MODIFIED:20260416T195015Z
UID:10004997-1845712800-1845718200@ssucedmonton.com
SUMMARY:Men's Coffee Group
DESCRIPTION:Tuesdays at 10:00 a.m. in the lower level Music Room. Bring your own coffee mug.
URL:https://ssucedmonton.com/event/mens-coffee-group/2028-06-27/
LOCATION:AB
CATEGORIES:Social Group
END:VEVENT
BEGIN:VEVENT
DTSTART;TZID=America/Edmonton:20280629T170000
DTEND;TZID=America/Edmonton:20280629T180000
DTSTAMP:20260419T204049
CREATED:20240714T204433Z
LAST-MODIFIED:20241009T182257Z
UID:10001517-1845910800-1845914400@ssucedmonton.com
SUMMARY:Food Bank Distribution
DESCRIPTION:Pick up depot for registered food bank clients.
URL:https://ssucedmonton.com/event/food-bank-distribution/2028-06-29/
LOCATION:SSUC Edmonton- Spiritual Seekers United in Community\, 10740-19 Avenue NW\, Edmonton\, AB\, T6J 6W9\, Canada
CATEGORIES:Resource Group
ATTACH;FMTTYPE=image/png:https://ssucedmonton.com/wp-content/uploads/2024/07/Untitled-design-6-e1728498041672.png
GEO:53.44805;-113.506732
X-APPLE-STRUCTURED-LOCATION;VALUE=URI;X-ADDRESS=SSUC Edmonton- Spiritual Seekers United in Community 10740-19 Avenue NW Edmonton AB T6J 6W9 Canada;X-APPLE-RADIUS=500;X-TITLE=10740-19 Avenue NW:geo:-113.506732,53.44805
END:VEVENT
BEGIN:VEVENT
DTSTART;TZID=America/Edmonton:20280629T180000
DTEND;TZID=America/Edmonton:20280629T190000
DTSTAMP:20260419T204049
CREATED:20241001T173552Z
LAST-MODIFIED:20241223T233508Z
UID:10002604-1845914400-1845918000@ssucedmonton.com
SUMMARY:Resource Discussion Group
DESCRIPTION:A weekly discussion group\, with a new topic each week. All are welcome. \n\nA weekly time for meaningful conversations.\nA space for ‘resourcing’ ourselves for living our values.\nA time for connecting as community.
URL:https://ssucedmonton.com/event/resource-discussion-group/2028-06-29/
LOCATION:SSUC Edmonton- Spiritual Seekers United in Community\, 10740-19 Avenue NW\, Edmonton\, AB\, T6J 6W9\, Canada
CATEGORIES:Resource Group
ATTACH;FMTTYPE=image/png:https://ssucedmonton.com/wp-content/uploads/2024/10/Resource-Fall2024.png
GEO:53.44805;-113.506732
X-APPLE-STRUCTURED-LOCATION;VALUE=URI;X-ADDRESS=SSUC Edmonton- Spiritual Seekers United in Community 10740-19 Avenue NW Edmonton AB T6J 6W9 Canada;X-APPLE-RADIUS=500;X-TITLE=10740-19 Avenue NW:geo:-113.506732,53.44805
END:VEVENT
BEGIN:VEVENT
DTSTART;TZID=America/Edmonton:20280629T191500
DTEND;TZID=America/Edmonton:20280629T210000
DTSTAMP:20260419T204049
CREATED:20250724T174610Z
LAST-MODIFIED:20251119T213753Z
UID:10004737-1845918900-1845925200@ssucedmonton.com
SUMMARY:Choir Rehearsal
DESCRIPTION:All welcome.
URL:https://ssucedmonton.com/event/choir-rehearsal/2028-06-29/
LOCATION:SSUC Edmonton- Spiritual Seekers United in Community\, 10740-19 Avenue NW\, Edmonton\, AB\, T6J 6W9\, Canada
CATEGORIES:Choir Rehearsal
GEO:53.44805;-113.506732
X-APPLE-STRUCTURED-LOCATION;VALUE=URI;X-ADDRESS=SSUC Edmonton- Spiritual Seekers United in Community 10740-19 Avenue NW Edmonton AB T6J 6W9 Canada;X-APPLE-RADIUS=500;X-TITLE=10740-19 Avenue NW:geo:-113.506732,53.44805
END:VEVENT
BEGIN:VEVENT
DTSTART;TZID=America/Edmonton:20280702T100000
DTEND;TZID=America/Edmonton:20280702T110000
DTSTAMP:20260419T204049
CREATED:20240711T222544Z
LAST-MODIFIED:20260327T205223Z
UID:10000211-1846144800-1846148400@ssucedmonton.com
SUMMARY:Spiritual Gathering (In-Person & Online)
DESCRIPTION:Join us for a Sunday morning of music\, community\, spiritual reflection\, and strengthening our commitment to live fully and love deeply in relation. As an affirming community\, we seek to explore and celebrate our spirituality together as people of every age\, gender\, race\, sexual orientation\, gender identity\, mental or physical ability\, marital status\, economic or cultural background.
URL:https://ssucedmonton.com/event/spiritual-gathering-in-person-online/2028-07-02/
LOCATION:SSUC Edmonton- Spiritual Seekers United in Community\, 10740-19 Avenue NW\, Edmonton\, AB\, T6J 6W9\, Canada
CATEGORIES:Affirming Event,Community Event,Hybrid Event
ATTACH;FMTTYPE=image/png:https://ssucedmonton.com/wp-content/uploads/2024/07/rhythm-2-1.png
GEO:53.44805;-113.506732
X-APPLE-STRUCTURED-LOCATION;VALUE=URI;X-ADDRESS=SSUC Edmonton- Spiritual Seekers United in Community 10740-19 Avenue NW Edmonton AB T6J 6W9 Canada;X-APPLE-RADIUS=500;X-TITLE=10740-19 Avenue NW:geo:-113.506732,53.44805
END:VEVENT
BEGIN:VEVENT
DTSTART;TZID=America/Edmonton:20280702T111500
DTEND;TZID=America/Edmonton:20280702T121500
DTSTAMP:20260419T204049
CREATED:20240924T184434Z
LAST-MODIFIED:20260220T215235Z
UID:10000733-1846149300-1846152900@ssucedmonton.com
SUMMARY:Post-Gathering Reflections
DESCRIPTION:Every week at about 11:15 MDT\, join in a casual zoom conversation to connect and discuss the morning’s gathering in ways it resonates and challenges.
URL:https://ssucedmonton.com/event/post-gathering-reflections-2/2028-07-02/
LOCATION:SSUC Edmonton- Spiritual Seekers United in Community\, 10740-19 Avenue NW\, Edmonton\, AB\, T6J 6W9\, Canada
CATEGORIES:Seminar/Workshop
ATTACH;FMTTYPE=image/png:https://ssucedmonton.com/wp-content/uploads/2024/07/Untitled-design-3-e1724004586746.png
GEO:53.44805;-113.506732
X-APPLE-STRUCTURED-LOCATION;VALUE=URI;X-ADDRESS=SSUC Edmonton- Spiritual Seekers United in Community 10740-19 Avenue NW Edmonton AB T6J 6W9 Canada;X-APPLE-RADIUS=500;X-TITLE=10740-19 Avenue NW:geo:-113.506732,53.44805
END:VEVENT
BEGIN:VEVENT
DTSTART;TZID=America/Edmonton:20280704T100000
DTEND;TZID=America/Edmonton:20280704T113000
DTSTAMP:20260419T204049
CREATED:20251119T214125Z
LAST-MODIFIED:20260416T195015Z
UID:10004998-1846317600-1846323000@ssucedmonton.com
SUMMARY:Men's Coffee Group
DESCRIPTION:Tuesdays at 10:00 a.m. in the lower level Music Room. Bring your own coffee mug.
URL:https://ssucedmonton.com/event/mens-coffee-group/2028-07-04/
LOCATION:AB
CATEGORIES:Social Group
END:VEVENT
BEGIN:VEVENT
DTSTART;TZID=America/Edmonton:20280704T190000
DTEND;TZID=America/Edmonton:20280704T203000
DTSTAMP:20260419T204049
CREATED:20241008T193343Z
LAST-MODIFIED:20241008T193431Z
UID:10002780-1846350000-1846355400@ssucedmonton.com
SUMMARY:Moving Forward to Reconciliation Meeting via Zoom
DESCRIPTION:
URL:https://ssucedmonton.com/event/moving-forward-to-reconciliation-meeting-via-zoom/2028-07-04/
LOCATION:SSUC Edmonton- Spiritual Seekers United in Community\, 10740-19 Avenue NW\, Edmonton\, AB\, T6J 6W9\, Canada
CATEGORIES:Board or Committee Meeting
ATTACH;FMTTYPE=image/png:https://ssucedmonton.com/wp-content/uploads/2024/08/meeting-icon-website-e1727282908277.png
GEO:53.44805;-113.506732
X-APPLE-STRUCTURED-LOCATION;VALUE=URI;X-ADDRESS=SSUC Edmonton- Spiritual Seekers United in Community 10740-19 Avenue NW Edmonton AB T6J 6W9 Canada;X-APPLE-RADIUS=500;X-TITLE=10740-19 Avenue NW:geo:-113.506732,53.44805
END:VEVENT
BEGIN:VEVENT
DTSTART;TZID=America/Edmonton:20280706T170000
DTEND;TZID=America/Edmonton:20280706T180000
DTSTAMP:20260419T204049
CREATED:20240714T204433Z
LAST-MODIFIED:20241009T182257Z
UID:10001518-1846515600-1846519200@ssucedmonton.com
SUMMARY:Food Bank Distribution
DESCRIPTION:Pick up depot for registered food bank clients.
URL:https://ssucedmonton.com/event/food-bank-distribution/2028-07-06/
LOCATION:SSUC Edmonton- Spiritual Seekers United in Community\, 10740-19 Avenue NW\, Edmonton\, AB\, T6J 6W9\, Canada
CATEGORIES:Resource Group
ATTACH;FMTTYPE=image/png:https://ssucedmonton.com/wp-content/uploads/2024/07/Untitled-design-6-e1728498041672.png
GEO:53.44805;-113.506732
X-APPLE-STRUCTURED-LOCATION;VALUE=URI;X-ADDRESS=SSUC Edmonton- Spiritual Seekers United in Community 10740-19 Avenue NW Edmonton AB T6J 6W9 Canada;X-APPLE-RADIUS=500;X-TITLE=10740-19 Avenue NW:geo:-113.506732,53.44805
END:VEVENT
BEGIN:VEVENT
DTSTART;TZID=America/Edmonton:20280706T180000
DTEND;TZID=America/Edmonton:20280706T190000
DTSTAMP:20260419T204049
CREATED:20241001T173552Z
LAST-MODIFIED:20241223T233508Z
UID:10002605-1846519200-1846522800@ssucedmonton.com
SUMMARY:Resource Discussion Group
DESCRIPTION:A weekly discussion group\, with a new topic each week. All are welcome. \n\nA weekly time for meaningful conversations.\nA space for ‘resourcing’ ourselves for living our values.\nA time for connecting as community.
URL:https://ssucedmonton.com/event/resource-discussion-group/2028-07-06/
LOCATION:SSUC Edmonton- Spiritual Seekers United in Community\, 10740-19 Avenue NW\, Edmonton\, AB\, T6J 6W9\, Canada
CATEGORIES:Resource Group
ATTACH;FMTTYPE=image/png:https://ssucedmonton.com/wp-content/uploads/2024/10/Resource-Fall2024.png
GEO:53.44805;-113.506732
X-APPLE-STRUCTURED-LOCATION;VALUE=URI;X-ADDRESS=SSUC Edmonton- Spiritual Seekers United in Community 10740-19 Avenue NW Edmonton AB T6J 6W9 Canada;X-APPLE-RADIUS=500;X-TITLE=10740-19 Avenue NW:geo:-113.506732,53.44805
END:VEVENT
BEGIN:VEVENT
DTSTART;TZID=America/Edmonton:20280706T191500
DTEND;TZID=America/Edmonton:20280706T210000
DTSTAMP:20260419T204049
CREATED:20250724T174610Z
LAST-MODIFIED:20251119T213753Z
UID:10004738-1846523700-1846530000@ssucedmonton.com
SUMMARY:Choir Rehearsal
DESCRIPTION:All welcome.
URL:https://ssucedmonton.com/event/choir-rehearsal/2028-07-06/
LOCATION:SSUC Edmonton- Spiritual Seekers United in Community\, 10740-19 Avenue NW\, Edmonton\, AB\, T6J 6W9\, Canada
CATEGORIES:Choir Rehearsal
GEO:53.44805;-113.506732
X-APPLE-STRUCTURED-LOCATION;VALUE=URI;X-ADDRESS=SSUC Edmonton- Spiritual Seekers United in Community 10740-19 Avenue NW Edmonton AB T6J 6W9 Canada;X-APPLE-RADIUS=500;X-TITLE=10740-19 Avenue NW:geo:-113.506732,53.44805
END:VEVENT
END:VCALENDAR