BEGIN:VCALENDAR
VERSION:2.0
PRODID:-//Spiritual Seekers United in Community - ECPv6.15.20//NONSGML v1.0//EN
CALSCALE:GREGORIAN
METHOD:PUBLISH
X-ORIGINAL-URL:https://ssucedmonton.com
X-WR-CALDESC:Events for Spiritual Seekers United in Community
REFRESH-INTERVAL;VALUE=DURATION:PT1H
X-Robots-Tag:noindex
X-PUBLISHED-TTL:PT1H
BEGIN:VTIMEZONE
TZID:America/Edmonton
BEGIN:DAYLIGHT
TZOFFSETFROM:-0700
TZOFFSETTO:-0600
TZNAME:MDT
DTSTART:20280312T090000
END:DAYLIGHT
BEGIN:STANDARD
TZOFFSETFROM:-0600
TZOFFSETTO:-0700
TZNAME:MST
DTSTART:20281105T080000
END:STANDARD
BEGIN:DAYLIGHT
TZOFFSETFROM:-0700
TZOFFSETTO:-0600
TZNAME:MDT
DTSTART:20290311T090000
END:DAYLIGHT
BEGIN:STANDARD
TZOFFSETFROM:-0600
TZOFFSETTO:-0700
TZNAME:MST
DTSTART:20291104T080000
END:STANDARD
BEGIN:DAYLIGHT
TZOFFSETFROM:-0700
TZOFFSETTO:-0600
TZNAME:MDT
DTSTART:20300310T090000
END:DAYLIGHT
BEGIN:STANDARD
TZOFFSETFROM:-0600
TZOFFSETTO:-0700
TZNAME:MST
DTSTART:20301103T080000
END:STANDARD
END:VTIMEZONE
BEGIN:VEVENT
DTSTART;TZID=America/Edmonton:20290111T170000
DTEND;TZID=America/Edmonton:20290111T180000
DTSTAMP:20260419T232830
CREATED:20240714T204433Z
LAST-MODIFIED:20241009T182257Z
UID:10001545-1862845200-1862848800@ssucedmonton.com
SUMMARY:Food Bank Distribution
DESCRIPTION:Pick up depot for registered food bank clients.
URL:https://ssucedmonton.com/event/food-bank-distribution/2029-01-11/
LOCATION:SSUC Edmonton- Spiritual Seekers United in Community\, 10740-19 Avenue NW\, Edmonton\, AB\, T6J 6W9\, Canada
CATEGORIES:Resource Group
ATTACH;FMTTYPE=image/png:https://ssucedmonton.com/wp-content/uploads/2024/07/Untitled-design-6-e1728498041672.png
GEO:53.44805;-113.506732
X-APPLE-STRUCTURED-LOCATION;VALUE=URI;X-ADDRESS=SSUC Edmonton- Spiritual Seekers United in Community 10740-19 Avenue NW Edmonton AB T6J 6W9 Canada;X-APPLE-RADIUS=500;X-TITLE=10740-19 Avenue NW:geo:-113.506732,53.44805
END:VEVENT
BEGIN:VEVENT
DTSTART;TZID=America/Edmonton:20290111T180000
DTEND;TZID=America/Edmonton:20290111T190000
DTSTAMP:20260419T232830
CREATED:20241001T173552Z
LAST-MODIFIED:20241223T233508Z
UID:10002632-1862848800-1862852400@ssucedmonton.com
SUMMARY:Resource Discussion Group
DESCRIPTION:A weekly discussion group\, with a new topic each week. All are welcome. \n\nA weekly time for meaningful conversations.\nA space for ‘resourcing’ ourselves for living our values.\nA time for connecting as community.
URL:https://ssucedmonton.com/event/resource-discussion-group/2029-01-11/
LOCATION:SSUC Edmonton- Spiritual Seekers United in Community\, 10740-19 Avenue NW\, Edmonton\, AB\, T6J 6W9\, Canada
CATEGORIES:Resource Group
ATTACH;FMTTYPE=image/png:https://ssucedmonton.com/wp-content/uploads/2024/10/Resource-Fall2024.png
GEO:53.44805;-113.506732
X-APPLE-STRUCTURED-LOCATION;VALUE=URI;X-ADDRESS=SSUC Edmonton- Spiritual Seekers United in Community 10740-19 Avenue NW Edmonton AB T6J 6W9 Canada;X-APPLE-RADIUS=500;X-TITLE=10740-19 Avenue NW:geo:-113.506732,53.44805
END:VEVENT
BEGIN:VEVENT
DTSTART;TZID=America/Edmonton:20290111T191500
DTEND;TZID=America/Edmonton:20290111T210000
DTSTAMP:20260419T232830
CREATED:20250724T174610Z
LAST-MODIFIED:20251119T213753Z
UID:10004765-1862853300-1862859600@ssucedmonton.com
SUMMARY:Choir Rehearsal
DESCRIPTION:All welcome.
URL:https://ssucedmonton.com/event/choir-rehearsal/2029-01-11/
LOCATION:SSUC Edmonton- Spiritual Seekers United in Community\, 10740-19 Avenue NW\, Edmonton\, AB\, T6J 6W9\, Canada
CATEGORIES:Choir Rehearsal
GEO:53.44805;-113.506732
X-APPLE-STRUCTURED-LOCATION;VALUE=URI;X-ADDRESS=SSUC Edmonton- Spiritual Seekers United in Community 10740-19 Avenue NW Edmonton AB T6J 6W9 Canada;X-APPLE-RADIUS=500;X-TITLE=10740-19 Avenue NW:geo:-113.506732,53.44805
END:VEVENT
BEGIN:VEVENT
DTSTART;TZID=America/Edmonton:20290114T100000
DTEND;TZID=America/Edmonton:20290114T110000
DTSTAMP:20260419T232830
CREATED:20240711T222544Z
LAST-MODIFIED:20260327T205223Z
UID:10000239-1863079200-1863082800@ssucedmonton.com
SUMMARY:Spiritual Gathering (In-Person & Online)
DESCRIPTION:Join us for a Sunday morning of music\, community\, spiritual reflection\, and strengthening our commitment to live fully and love deeply in relation. As an affirming community\, we seek to explore and celebrate our spirituality together as people of every age\, gender\, race\, sexual orientation\, gender identity\, mental or physical ability\, marital status\, economic or cultural background.
URL:https://ssucedmonton.com/event/spiritual-gathering-in-person-online/2029-01-14/
LOCATION:SSUC Edmonton- Spiritual Seekers United in Community\, 10740-19 Avenue NW\, Edmonton\, AB\, T6J 6W9\, Canada
CATEGORIES:Affirming Event,Community Event,Hybrid Event
ATTACH;FMTTYPE=image/png:https://ssucedmonton.com/wp-content/uploads/2024/07/rhythm-2-1.png
GEO:53.44805;-113.506732
X-APPLE-STRUCTURED-LOCATION;VALUE=URI;X-ADDRESS=SSUC Edmonton- Spiritual Seekers United in Community 10740-19 Avenue NW Edmonton AB T6J 6W9 Canada;X-APPLE-RADIUS=500;X-TITLE=10740-19 Avenue NW:geo:-113.506732,53.44805
END:VEVENT
BEGIN:VEVENT
DTSTART;TZID=America/Edmonton:20290114T111500
DTEND;TZID=America/Edmonton:20290114T121500
DTSTAMP:20260419T232830
CREATED:20240924T184434Z
LAST-MODIFIED:20260220T215235Z
UID:10000761-1863083700-1863087300@ssucedmonton.com
SUMMARY:Post-Gathering Reflections
DESCRIPTION:Every week at about 11:15 MDT\, join in a casual zoom conversation to connect and discuss the morning’s gathering in ways it resonates and challenges.
URL:https://ssucedmonton.com/event/post-gathering-reflections-2/2029-01-14/
LOCATION:SSUC Edmonton- Spiritual Seekers United in Community\, 10740-19 Avenue NW\, Edmonton\, AB\, T6J 6W9\, Canada
CATEGORIES:Seminar/Workshop
ATTACH;FMTTYPE=image/png:https://ssucedmonton.com/wp-content/uploads/2024/07/Untitled-design-3-e1724004586746.png
GEO:53.44805;-113.506732
X-APPLE-STRUCTURED-LOCATION;VALUE=URI;X-ADDRESS=SSUC Edmonton- Spiritual Seekers United in Community 10740-19 Avenue NW Edmonton AB T6J 6W9 Canada;X-APPLE-RADIUS=500;X-TITLE=10740-19 Avenue NW:geo:-113.506732,53.44805
END:VEVENT
BEGIN:VEVENT
DTSTART;TZID=America/Edmonton:20290116T100000
DTEND;TZID=America/Edmonton:20290116T113000
DTSTAMP:20260419T232830
CREATED:20251119T214125Z
LAST-MODIFIED:20260416T195015Z
UID:10005026-1863252000-1863257400@ssucedmonton.com
SUMMARY:Men's Coffee Group
DESCRIPTION:Tuesdays at 10:00 a.m. in the lower level Music Room. Bring your own coffee mug.
URL:https://ssucedmonton.com/event/mens-coffee-group/2029-01-16/
LOCATION:AB
CATEGORIES:Social Group
END:VEVENT
BEGIN:VEVENT
DTSTART;TZID=America/Edmonton:20290116T183000
DTEND;TZID=America/Edmonton:20290116T203000
DTSTAMP:20260419T232830
CREATED:20250410T184038Z
LAST-MODIFIED:20250410T184038Z
UID:10003745-1863282600-1863289800@ssucedmonton.com
SUMMARY:SSUC Board Meeting
DESCRIPTION:
URL:https://ssucedmonton.com/event/ssuc-board-meeting-2/2029-01-16/
LOCATION:SSUC Edmonton- Spiritual Seekers United in Community\, 10740-19 Avenue NW\, Edmonton\, AB\, T6J 6W9\, Canada
CATEGORIES:Board or Committee Meeting
GEO:53.44805;-113.506732
X-APPLE-STRUCTURED-LOCATION;VALUE=URI;X-ADDRESS=SSUC Edmonton- Spiritual Seekers United in Community 10740-19 Avenue NW Edmonton AB T6J 6W9 Canada;X-APPLE-RADIUS=500;X-TITLE=10740-19 Avenue NW:geo:-113.506732,53.44805
END:VEVENT
BEGIN:VEVENT
DTSTART;TZID=America/Edmonton:20290118T170000
DTEND;TZID=America/Edmonton:20290118T180000
DTSTAMP:20260419T232830
CREATED:20240714T204433Z
LAST-MODIFIED:20241009T182257Z
UID:10001546-1863450000-1863453600@ssucedmonton.com
SUMMARY:Food Bank Distribution
DESCRIPTION:Pick up depot for registered food bank clients.
URL:https://ssucedmonton.com/event/food-bank-distribution/2029-01-18/
LOCATION:SSUC Edmonton- Spiritual Seekers United in Community\, 10740-19 Avenue NW\, Edmonton\, AB\, T6J 6W9\, Canada
CATEGORIES:Resource Group
ATTACH;FMTTYPE=image/png:https://ssucedmonton.com/wp-content/uploads/2024/07/Untitled-design-6-e1728498041672.png
GEO:53.44805;-113.506732
X-APPLE-STRUCTURED-LOCATION;VALUE=URI;X-ADDRESS=SSUC Edmonton- Spiritual Seekers United in Community 10740-19 Avenue NW Edmonton AB T6J 6W9 Canada;X-APPLE-RADIUS=500;X-TITLE=10740-19 Avenue NW:geo:-113.506732,53.44805
END:VEVENT
BEGIN:VEVENT
DTSTART;TZID=America/Edmonton:20290118T180000
DTEND;TZID=America/Edmonton:20290118T190000
DTSTAMP:20260419T232830
CREATED:20241001T173552Z
LAST-MODIFIED:20241223T233508Z
UID:10002633-1863453600-1863457200@ssucedmonton.com
SUMMARY:Resource Discussion Group
DESCRIPTION:A weekly discussion group\, with a new topic each week. All are welcome. \n\nA weekly time for meaningful conversations.\nA space for ‘resourcing’ ourselves for living our values.\nA time for connecting as community.
URL:https://ssucedmonton.com/event/resource-discussion-group/2029-01-18/
LOCATION:SSUC Edmonton- Spiritual Seekers United in Community\, 10740-19 Avenue NW\, Edmonton\, AB\, T6J 6W9\, Canada
CATEGORIES:Resource Group
ATTACH;FMTTYPE=image/png:https://ssucedmonton.com/wp-content/uploads/2024/10/Resource-Fall2024.png
GEO:53.44805;-113.506732
X-APPLE-STRUCTURED-LOCATION;VALUE=URI;X-ADDRESS=SSUC Edmonton- Spiritual Seekers United in Community 10740-19 Avenue NW Edmonton AB T6J 6W9 Canada;X-APPLE-RADIUS=500;X-TITLE=10740-19 Avenue NW:geo:-113.506732,53.44805
END:VEVENT
BEGIN:VEVENT
DTSTART;TZID=America/Edmonton:20290118T191500
DTEND;TZID=America/Edmonton:20290118T210000
DTSTAMP:20260419T232830
CREATED:20250724T174610Z
LAST-MODIFIED:20251119T213753Z
UID:10004766-1863458100-1863464400@ssucedmonton.com
SUMMARY:Choir Rehearsal
DESCRIPTION:All welcome.
URL:https://ssucedmonton.com/event/choir-rehearsal/2029-01-18/
LOCATION:SSUC Edmonton- Spiritual Seekers United in Community\, 10740-19 Avenue NW\, Edmonton\, AB\, T6J 6W9\, Canada
CATEGORIES:Choir Rehearsal
GEO:53.44805;-113.506732
X-APPLE-STRUCTURED-LOCATION;VALUE=URI;X-ADDRESS=SSUC Edmonton- Spiritual Seekers United in Community 10740-19 Avenue NW Edmonton AB T6J 6W9 Canada;X-APPLE-RADIUS=500;X-TITLE=10740-19 Avenue NW:geo:-113.506732,53.44805
END:VEVENT
BEGIN:VEVENT
DTSTART;TZID=America/Edmonton:20290121T100000
DTEND;TZID=America/Edmonton:20290121T110000
DTSTAMP:20260419T232830
CREATED:20240711T222544Z
LAST-MODIFIED:20260327T205223Z
UID:10000240-1863684000-1863687600@ssucedmonton.com
SUMMARY:Spiritual Gathering (In-Person & Online)
DESCRIPTION:Join us for a Sunday morning of music\, community\, spiritual reflection\, and strengthening our commitment to live fully and love deeply in relation. As an affirming community\, we seek to explore and celebrate our spirituality together as people of every age\, gender\, race\, sexual orientation\, gender identity\, mental or physical ability\, marital status\, economic or cultural background.
URL:https://ssucedmonton.com/event/spiritual-gathering-in-person-online/2029-01-21/
LOCATION:SSUC Edmonton- Spiritual Seekers United in Community\, 10740-19 Avenue NW\, Edmonton\, AB\, T6J 6W9\, Canada
CATEGORIES:Affirming Event,Community Event,Hybrid Event
ATTACH;FMTTYPE=image/png:https://ssucedmonton.com/wp-content/uploads/2024/07/rhythm-2-1.png
GEO:53.44805;-113.506732
X-APPLE-STRUCTURED-LOCATION;VALUE=URI;X-ADDRESS=SSUC Edmonton- Spiritual Seekers United in Community 10740-19 Avenue NW Edmonton AB T6J 6W9 Canada;X-APPLE-RADIUS=500;X-TITLE=10740-19 Avenue NW:geo:-113.506732,53.44805
END:VEVENT
BEGIN:VEVENT
DTSTART;TZID=America/Edmonton:20290121T111500
DTEND;TZID=America/Edmonton:20290121T121500
DTSTAMP:20260419T232830
CREATED:20240924T184434Z
LAST-MODIFIED:20260220T215235Z
UID:10000762-1863688500-1863692100@ssucedmonton.com
SUMMARY:Post-Gathering Reflections
DESCRIPTION:Every week at about 11:15 MDT\, join in a casual zoom conversation to connect and discuss the morning’s gathering in ways it resonates and challenges.
URL:https://ssucedmonton.com/event/post-gathering-reflections-2/2029-01-21/
LOCATION:SSUC Edmonton- Spiritual Seekers United in Community\, 10740-19 Avenue NW\, Edmonton\, AB\, T6J 6W9\, Canada
CATEGORIES:Seminar/Workshop
ATTACH;FMTTYPE=image/png:https://ssucedmonton.com/wp-content/uploads/2024/07/Untitled-design-3-e1724004586746.png
GEO:53.44805;-113.506732
X-APPLE-STRUCTURED-LOCATION;VALUE=URI;X-ADDRESS=SSUC Edmonton- Spiritual Seekers United in Community 10740-19 Avenue NW Edmonton AB T6J 6W9 Canada;X-APPLE-RADIUS=500;X-TITLE=10740-19 Avenue NW:geo:-113.506732,53.44805
END:VEVENT
BEGIN:VEVENT
DTSTART;TZID=America/Edmonton:20290123T100000
DTEND;TZID=America/Edmonton:20290123T113000
DTSTAMP:20260419T232830
CREATED:20251119T214125Z
LAST-MODIFIED:20260416T195015Z
UID:10005027-1863856800-1863862200@ssucedmonton.com
SUMMARY:Men's Coffee Group
DESCRIPTION:Tuesdays at 10:00 a.m. in the lower level Music Room. Bring your own coffee mug.
URL:https://ssucedmonton.com/event/mens-coffee-group/2029-01-23/
LOCATION:AB
CATEGORIES:Social Group
END:VEVENT
BEGIN:VEVENT
DTSTART;TZID=America/Edmonton:20290125T170000
DTEND;TZID=America/Edmonton:20290125T180000
DTSTAMP:20260419T232830
CREATED:20240714T204433Z
LAST-MODIFIED:20241009T182257Z
UID:10001547-1864054800-1864058400@ssucedmonton.com
SUMMARY:Food Bank Distribution
DESCRIPTION:Pick up depot for registered food bank clients.
URL:https://ssucedmonton.com/event/food-bank-distribution/2029-01-25/
LOCATION:SSUC Edmonton- Spiritual Seekers United in Community\, 10740-19 Avenue NW\, Edmonton\, AB\, T6J 6W9\, Canada
CATEGORIES:Resource Group
ATTACH;FMTTYPE=image/png:https://ssucedmonton.com/wp-content/uploads/2024/07/Untitled-design-6-e1728498041672.png
GEO:53.44805;-113.506732
X-APPLE-STRUCTURED-LOCATION;VALUE=URI;X-ADDRESS=SSUC Edmonton- Spiritual Seekers United in Community 10740-19 Avenue NW Edmonton AB T6J 6W9 Canada;X-APPLE-RADIUS=500;X-TITLE=10740-19 Avenue NW:geo:-113.506732,53.44805
END:VEVENT
BEGIN:VEVENT
DTSTART;TZID=America/Edmonton:20290125T180000
DTEND;TZID=America/Edmonton:20290125T190000
DTSTAMP:20260419T232830
CREATED:20241001T173552Z
LAST-MODIFIED:20241223T233508Z
UID:10002634-1864058400-1864062000@ssucedmonton.com
SUMMARY:Resource Discussion Group
DESCRIPTION:A weekly discussion group\, with a new topic each week. All are welcome. \n\nA weekly time for meaningful conversations.\nA space for ‘resourcing’ ourselves for living our values.\nA time for connecting as community.
URL:https://ssucedmonton.com/event/resource-discussion-group/2029-01-25/
LOCATION:SSUC Edmonton- Spiritual Seekers United in Community\, 10740-19 Avenue NW\, Edmonton\, AB\, T6J 6W9\, Canada
CATEGORIES:Resource Group
ATTACH;FMTTYPE=image/png:https://ssucedmonton.com/wp-content/uploads/2024/10/Resource-Fall2024.png
GEO:53.44805;-113.506732
X-APPLE-STRUCTURED-LOCATION;VALUE=URI;X-ADDRESS=SSUC Edmonton- Spiritual Seekers United in Community 10740-19 Avenue NW Edmonton AB T6J 6W9 Canada;X-APPLE-RADIUS=500;X-TITLE=10740-19 Avenue NW:geo:-113.506732,53.44805
END:VEVENT
BEGIN:VEVENT
DTSTART;TZID=America/Edmonton:20290125T191500
DTEND;TZID=America/Edmonton:20290125T210000
DTSTAMP:20260419T232830
CREATED:20250724T174610Z
LAST-MODIFIED:20251119T213753Z
UID:10004767-1864062900-1864069200@ssucedmonton.com
SUMMARY:Choir Rehearsal
DESCRIPTION:All welcome.
URL:https://ssucedmonton.com/event/choir-rehearsal/2029-01-25/
LOCATION:SSUC Edmonton- Spiritual Seekers United in Community\, 10740-19 Avenue NW\, Edmonton\, AB\, T6J 6W9\, Canada
CATEGORIES:Choir Rehearsal
GEO:53.44805;-113.506732
X-APPLE-STRUCTURED-LOCATION;VALUE=URI;X-ADDRESS=SSUC Edmonton- Spiritual Seekers United in Community 10740-19 Avenue NW Edmonton AB T6J 6W9 Canada;X-APPLE-RADIUS=500;X-TITLE=10740-19 Avenue NW:geo:-113.506732,53.44805
END:VEVENT
BEGIN:VEVENT
DTSTART;TZID=America/Edmonton:20290128T100000
DTEND;TZID=America/Edmonton:20290128T110000
DTSTAMP:20260419T232830
CREATED:20240711T222544Z
LAST-MODIFIED:20260327T205223Z
UID:10000241-1864288800-1864292400@ssucedmonton.com
SUMMARY:Spiritual Gathering (In-Person & Online)
DESCRIPTION:Join us for a Sunday morning of music\, community\, spiritual reflection\, and strengthening our commitment to live fully and love deeply in relation. As an affirming community\, we seek to explore and celebrate our spirituality together as people of every age\, gender\, race\, sexual orientation\, gender identity\, mental or physical ability\, marital status\, economic or cultural background.
URL:https://ssucedmonton.com/event/spiritual-gathering-in-person-online/2029-01-28/
LOCATION:SSUC Edmonton- Spiritual Seekers United in Community\, 10740-19 Avenue NW\, Edmonton\, AB\, T6J 6W9\, Canada
CATEGORIES:Affirming Event,Community Event,Hybrid Event
ATTACH;FMTTYPE=image/png:https://ssucedmonton.com/wp-content/uploads/2024/07/rhythm-2-1.png
GEO:53.44805;-113.506732
X-APPLE-STRUCTURED-LOCATION;VALUE=URI;X-ADDRESS=SSUC Edmonton- Spiritual Seekers United in Community 10740-19 Avenue NW Edmonton AB T6J 6W9 Canada;X-APPLE-RADIUS=500;X-TITLE=10740-19 Avenue NW:geo:-113.506732,53.44805
END:VEVENT
BEGIN:VEVENT
DTSTART;TZID=America/Edmonton:20290128T111500
DTEND;TZID=America/Edmonton:20290128T121500
DTSTAMP:20260419T232830
CREATED:20240924T184434Z
LAST-MODIFIED:20260220T215235Z
UID:10000763-1864293300-1864296900@ssucedmonton.com
SUMMARY:Post-Gathering Reflections
DESCRIPTION:Every week at about 11:15 MDT\, join in a casual zoom conversation to connect and discuss the morning’s gathering in ways it resonates and challenges.
URL:https://ssucedmonton.com/event/post-gathering-reflections-2/2029-01-28/
LOCATION:SSUC Edmonton- Spiritual Seekers United in Community\, 10740-19 Avenue NW\, Edmonton\, AB\, T6J 6W9\, Canada
CATEGORIES:Seminar/Workshop
ATTACH;FMTTYPE=image/png:https://ssucedmonton.com/wp-content/uploads/2024/07/Untitled-design-3-e1724004586746.png
GEO:53.44805;-113.506732
X-APPLE-STRUCTURED-LOCATION;VALUE=URI;X-ADDRESS=SSUC Edmonton- Spiritual Seekers United in Community 10740-19 Avenue NW Edmonton AB T6J 6W9 Canada;X-APPLE-RADIUS=500;X-TITLE=10740-19 Avenue NW:geo:-113.506732,53.44805
END:VEVENT
BEGIN:VEVENT
DTSTART;TZID=America/Edmonton:20290130T100000
DTEND;TZID=America/Edmonton:20290130T113000
DTSTAMP:20260419T232830
CREATED:20251119T214125Z
LAST-MODIFIED:20260416T195015Z
UID:10005028-1864461600-1864467000@ssucedmonton.com
SUMMARY:Men's Coffee Group
DESCRIPTION:Tuesdays at 10:00 a.m. in the lower level Music Room. Bring your own coffee mug.
URL:https://ssucedmonton.com/event/mens-coffee-group/2029-01-30/
LOCATION:AB
CATEGORIES:Social Group
END:VEVENT
BEGIN:VEVENT
DTSTART;TZID=America/Edmonton:20290201T170000
DTEND;TZID=America/Edmonton:20290201T180000
DTSTAMP:20260419T232830
CREATED:20240714T204433Z
LAST-MODIFIED:20241009T182257Z
UID:10001548-1864659600-1864663200@ssucedmonton.com
SUMMARY:Food Bank Distribution
DESCRIPTION:Pick up depot for registered food bank clients.
URL:https://ssucedmonton.com/event/food-bank-distribution/2029-02-01/
LOCATION:SSUC Edmonton- Spiritual Seekers United in Community\, 10740-19 Avenue NW\, Edmonton\, AB\, T6J 6W9\, Canada
CATEGORIES:Resource Group
ATTACH;FMTTYPE=image/png:https://ssucedmonton.com/wp-content/uploads/2024/07/Untitled-design-6-e1728498041672.png
GEO:53.44805;-113.506732
X-APPLE-STRUCTURED-LOCATION;VALUE=URI;X-ADDRESS=SSUC Edmonton- Spiritual Seekers United in Community 10740-19 Avenue NW Edmonton AB T6J 6W9 Canada;X-APPLE-RADIUS=500;X-TITLE=10740-19 Avenue NW:geo:-113.506732,53.44805
END:VEVENT
BEGIN:VEVENT
DTSTART;TZID=America/Edmonton:20290201T180000
DTEND;TZID=America/Edmonton:20290201T190000
DTSTAMP:20260419T232830
CREATED:20241001T173552Z
LAST-MODIFIED:20241223T233508Z
UID:10002635-1864663200-1864666800@ssucedmonton.com
SUMMARY:Resource Discussion Group
DESCRIPTION:A weekly discussion group\, with a new topic each week. All are welcome. \n\nA weekly time for meaningful conversations.\nA space for ‘resourcing’ ourselves for living our values.\nA time for connecting as community.
URL:https://ssucedmonton.com/event/resource-discussion-group/2029-02-01/
LOCATION:SSUC Edmonton- Spiritual Seekers United in Community\, 10740-19 Avenue NW\, Edmonton\, AB\, T6J 6W9\, Canada
CATEGORIES:Resource Group
ATTACH;FMTTYPE=image/png:https://ssucedmonton.com/wp-content/uploads/2024/10/Resource-Fall2024.png
GEO:53.44805;-113.506732
X-APPLE-STRUCTURED-LOCATION;VALUE=URI;X-ADDRESS=SSUC Edmonton- Spiritual Seekers United in Community 10740-19 Avenue NW Edmonton AB T6J 6W9 Canada;X-APPLE-RADIUS=500;X-TITLE=10740-19 Avenue NW:geo:-113.506732,53.44805
END:VEVENT
BEGIN:VEVENT
DTSTART;TZID=America/Edmonton:20290201T191500
DTEND;TZID=America/Edmonton:20290201T210000
DTSTAMP:20260419T232830
CREATED:20250724T174610Z
LAST-MODIFIED:20251119T213753Z
UID:10004768-1864667700-1864674000@ssucedmonton.com
SUMMARY:Choir Rehearsal
DESCRIPTION:All welcome.
URL:https://ssucedmonton.com/event/choir-rehearsal/2029-02-01/
LOCATION:SSUC Edmonton- Spiritual Seekers United in Community\, 10740-19 Avenue NW\, Edmonton\, AB\, T6J 6W9\, Canada
CATEGORIES:Choir Rehearsal
GEO:53.44805;-113.506732
X-APPLE-STRUCTURED-LOCATION;VALUE=URI;X-ADDRESS=SSUC Edmonton- Spiritual Seekers United in Community 10740-19 Avenue NW Edmonton AB T6J 6W9 Canada;X-APPLE-RADIUS=500;X-TITLE=10740-19 Avenue NW:geo:-113.506732,53.44805
END:VEVENT
BEGIN:VEVENT
DTSTART;TZID=America/Edmonton:20290204T100000
DTEND;TZID=America/Edmonton:20290204T110000
DTSTAMP:20260419T232830
CREATED:20240711T222544Z
LAST-MODIFIED:20260327T205223Z
UID:10000242-1864893600-1864897200@ssucedmonton.com
SUMMARY:Spiritual Gathering (In-Person & Online)
DESCRIPTION:Join us for a Sunday morning of music\, community\, spiritual reflection\, and strengthening our commitment to live fully and love deeply in relation. As an affirming community\, we seek to explore and celebrate our spirituality together as people of every age\, gender\, race\, sexual orientation\, gender identity\, mental or physical ability\, marital status\, economic or cultural background.
URL:https://ssucedmonton.com/event/spiritual-gathering-in-person-online/2029-02-04/
LOCATION:SSUC Edmonton- Spiritual Seekers United in Community\, 10740-19 Avenue NW\, Edmonton\, AB\, T6J 6W9\, Canada
CATEGORIES:Affirming Event,Community Event,Hybrid Event
ATTACH;FMTTYPE=image/png:https://ssucedmonton.com/wp-content/uploads/2024/07/rhythm-2-1.png
GEO:53.44805;-113.506732
X-APPLE-STRUCTURED-LOCATION;VALUE=URI;X-ADDRESS=SSUC Edmonton- Spiritual Seekers United in Community 10740-19 Avenue NW Edmonton AB T6J 6W9 Canada;X-APPLE-RADIUS=500;X-TITLE=10740-19 Avenue NW:geo:-113.506732,53.44805
END:VEVENT
BEGIN:VEVENT
DTSTART;TZID=America/Edmonton:20290204T111500
DTEND;TZID=America/Edmonton:20290204T121500
DTSTAMP:20260419T232830
CREATED:20240924T184434Z
LAST-MODIFIED:20260220T215235Z
UID:10000764-1864898100-1864901700@ssucedmonton.com
SUMMARY:Post-Gathering Reflections
DESCRIPTION:Every week at about 11:15 MDT\, join in a casual zoom conversation to connect and discuss the morning’s gathering in ways it resonates and challenges.
URL:https://ssucedmonton.com/event/post-gathering-reflections-2/2029-02-04/
LOCATION:SSUC Edmonton- Spiritual Seekers United in Community\, 10740-19 Avenue NW\, Edmonton\, AB\, T6J 6W9\, Canada
CATEGORIES:Seminar/Workshop
ATTACH;FMTTYPE=image/png:https://ssucedmonton.com/wp-content/uploads/2024/07/Untitled-design-3-e1724004586746.png
GEO:53.44805;-113.506732
X-APPLE-STRUCTURED-LOCATION;VALUE=URI;X-ADDRESS=SSUC Edmonton- Spiritual Seekers United in Community 10740-19 Avenue NW Edmonton AB T6J 6W9 Canada;X-APPLE-RADIUS=500;X-TITLE=10740-19 Avenue NW:geo:-113.506732,53.44805
END:VEVENT
BEGIN:VEVENT
DTSTART;TZID=America/Edmonton:20290206T100000
DTEND;TZID=America/Edmonton:20290206T113000
DTSTAMP:20260419T232830
CREATED:20251119T214125Z
LAST-MODIFIED:20260416T195015Z
UID:10005029-1865066400-1865071800@ssucedmonton.com
SUMMARY:Men's Coffee Group
DESCRIPTION:Tuesdays at 10:00 a.m. in the lower level Music Room. Bring your own coffee mug.
URL:https://ssucedmonton.com/event/mens-coffee-group/2029-02-06/
LOCATION:AB
CATEGORIES:Social Group
END:VEVENT
BEGIN:VEVENT
DTSTART;TZID=America/Edmonton:20290206T190000
DTEND;TZID=America/Edmonton:20290206T203000
DTSTAMP:20260419T232830
CREATED:20241008T193343Z
LAST-MODIFIED:20241008T193431Z
UID:10002787-1865098800-1865104200@ssucedmonton.com
SUMMARY:Moving Forward to Reconciliation Meeting via Zoom
DESCRIPTION:
URL:https://ssucedmonton.com/event/moving-forward-to-reconciliation-meeting-via-zoom/2029-02-06/
LOCATION:SSUC Edmonton- Spiritual Seekers United in Community\, 10740-19 Avenue NW\, Edmonton\, AB\, T6J 6W9\, Canada
CATEGORIES:Board or Committee Meeting
ATTACH;FMTTYPE=image/png:https://ssucedmonton.com/wp-content/uploads/2024/08/meeting-icon-website-e1727282908277.png
GEO:53.44805;-113.506732
X-APPLE-STRUCTURED-LOCATION;VALUE=URI;X-ADDRESS=SSUC Edmonton- Spiritual Seekers United in Community 10740-19 Avenue NW Edmonton AB T6J 6W9 Canada;X-APPLE-RADIUS=500;X-TITLE=10740-19 Avenue NW:geo:-113.506732,53.44805
END:VEVENT
BEGIN:VEVENT
DTSTART;TZID=America/Edmonton:20290208T130000
DTEND;TZID=America/Edmonton:20290208T150000
DTSTAMP:20260419T232830
CREATED:20241008T192007Z
LAST-MODIFIED:20241008T193519Z
UID:10002728-1865250000-1865257200@ssucedmonton.com
SUMMARY:Congregational Care Committee Meeting
DESCRIPTION:
URL:https://ssucedmonton.com/event/congregational-care-committee-meeting/2029-02-08/
LOCATION:SSUC Edmonton- Spiritual Seekers United in Community\, 10740-19 Avenue NW\, Edmonton\, AB\, T6J 6W9\, Canada
CATEGORIES:Congregational Care,Meeting
ATTACH;FMTTYPE=image/png:https://ssucedmonton.com/wp-content/uploads/2024/08/meeting-icon-website-e1727282908277.png
GEO:53.44805;-113.506732
X-APPLE-STRUCTURED-LOCATION;VALUE=URI;X-ADDRESS=SSUC Edmonton- Spiritual Seekers United in Community 10740-19 Avenue NW Edmonton AB T6J 6W9 Canada;X-APPLE-RADIUS=500;X-TITLE=10740-19 Avenue NW:geo:-113.506732,53.44805
END:VEVENT
BEGIN:VEVENT
DTSTART;TZID=America/Edmonton:20290208T170000
DTEND;TZID=America/Edmonton:20290208T180000
DTSTAMP:20260419T232830
CREATED:20240714T204433Z
LAST-MODIFIED:20241009T182257Z
UID:10001549-1865264400-1865268000@ssucedmonton.com
SUMMARY:Food Bank Distribution
DESCRIPTION:Pick up depot for registered food bank clients.
URL:https://ssucedmonton.com/event/food-bank-distribution/2029-02-08/
LOCATION:SSUC Edmonton- Spiritual Seekers United in Community\, 10740-19 Avenue NW\, Edmonton\, AB\, T6J 6W9\, Canada
CATEGORIES:Resource Group
ATTACH;FMTTYPE=image/png:https://ssucedmonton.com/wp-content/uploads/2024/07/Untitled-design-6-e1728498041672.png
GEO:53.44805;-113.506732
X-APPLE-STRUCTURED-LOCATION;VALUE=URI;X-ADDRESS=SSUC Edmonton- Spiritual Seekers United in Community 10740-19 Avenue NW Edmonton AB T6J 6W9 Canada;X-APPLE-RADIUS=500;X-TITLE=10740-19 Avenue NW:geo:-113.506732,53.44805
END:VEVENT
BEGIN:VEVENT
DTSTART;TZID=America/Edmonton:20290208T180000
DTEND;TZID=America/Edmonton:20290208T190000
DTSTAMP:20260419T232830
CREATED:20241001T173552Z
LAST-MODIFIED:20241223T233508Z
UID:10002636-1865268000-1865271600@ssucedmonton.com
SUMMARY:Resource Discussion Group
DESCRIPTION:A weekly discussion group\, with a new topic each week. All are welcome. \n\nA weekly time for meaningful conversations.\nA space for ‘resourcing’ ourselves for living our values.\nA time for connecting as community.
URL:https://ssucedmonton.com/event/resource-discussion-group/2029-02-08/
LOCATION:SSUC Edmonton- Spiritual Seekers United in Community\, 10740-19 Avenue NW\, Edmonton\, AB\, T6J 6W9\, Canada
CATEGORIES:Resource Group
ATTACH;FMTTYPE=image/png:https://ssucedmonton.com/wp-content/uploads/2024/10/Resource-Fall2024.png
GEO:53.44805;-113.506732
X-APPLE-STRUCTURED-LOCATION;VALUE=URI;X-ADDRESS=SSUC Edmonton- Spiritual Seekers United in Community 10740-19 Avenue NW Edmonton AB T6J 6W9 Canada;X-APPLE-RADIUS=500;X-TITLE=10740-19 Avenue NW:geo:-113.506732,53.44805
END:VEVENT
BEGIN:VEVENT
DTSTART;TZID=America/Edmonton:20290208T191500
DTEND;TZID=America/Edmonton:20290208T210000
DTSTAMP:20260419T232830
CREATED:20250724T174610Z
LAST-MODIFIED:20251119T213753Z
UID:10004769-1865272500-1865278800@ssucedmonton.com
SUMMARY:Choir Rehearsal
DESCRIPTION:All welcome.
URL:https://ssucedmonton.com/event/choir-rehearsal/2029-02-08/
LOCATION:SSUC Edmonton- Spiritual Seekers United in Community\, 10740-19 Avenue NW\, Edmonton\, AB\, T6J 6W9\, Canada
CATEGORIES:Choir Rehearsal
GEO:53.44805;-113.506732
X-APPLE-STRUCTURED-LOCATION;VALUE=URI;X-ADDRESS=SSUC Edmonton- Spiritual Seekers United in Community 10740-19 Avenue NW Edmonton AB T6J 6W9 Canada;X-APPLE-RADIUS=500;X-TITLE=10740-19 Avenue NW:geo:-113.506732,53.44805
END:VEVENT
END:VCALENDAR